| Back to Multiple platform build/check report for BioC 3.8 |
|
This page was generated on 2019-04-16 11:54:23 -0400 (Tue, 16 Apr 2019).
| Package 1125/1649 | Hostname | OS / Arch | INSTALL | BUILD | CHECK | BUILD BIN | ||||||
| pathRender 1.50.0 Vince Carey
| malbec1 | Linux (Ubuntu 16.04.6 LTS) / x86_64 | OK | OK | OK | |||||||
| merida1 | OS X 10.11.6 El Capitan / x86_64 | OK | OK | OK | [ OK ] |
| Package: pathRender |
| Version: 1.50.0 |
| Command: rm -rf pathRender.buildbin-libdir && mkdir pathRender.buildbin-libdir && /Users/biocbuild/BBS/utils/build-universal.sh pathRender_1.50.0.tar.gz /Library/Frameworks/R.framework/Versions/Current/Resources/bin/R pathRender.buildbin-libdir |
| StartedAt: 2019-04-16 04:30:28 -0400 (Tue, 16 Apr 2019) |
| EndedAt: 2019-04-16 04:31:09 -0400 (Tue, 16 Apr 2019) |
| EllapsedTime: 41.1 seconds |
| RetCode: 0 |
| Status: OK |
| PackageFile: pathRender_1.50.0.tgz |
| PackageFileSize: 251 KiB |
############################################################################## ############################################################################## ### ### Running command: ### ### rm -rf pathRender.buildbin-libdir && mkdir pathRender.buildbin-libdir && /Users/biocbuild/BBS/utils/build-universal.sh pathRender_1.50.0.tar.gz /Library/Frameworks/R.framework/Versions/Current/Resources/bin/R pathRender.buildbin-libdir ### ############################################################################## ############################################################################## >>>>>>> >>>>>>> INSTALLATION WITH 'R CMD INSTALL --preclean --no-multiarch --library=pathRender.buildbin-libdir pathRender_1.50.0.tar.gz' >>>>>>> * installing *source* package ‘pathRender’ ... ** R ** inst ** byte-compile and prepare package for lazy loading ** help *** installing help indices ** building package indices ** installing vignettes ** testing if installed package can be loaded * DONE (pathRender)