| Back to Multiple platform build/check report for BioC 3.8 |
|
This page was generated on 2019-04-16 11:57:12 -0400 (Tue, 16 Apr 2019).
| Package 1094/1649 | Hostname | OS / Arch | INSTALL | BUILD | CHECK | BUILD BIN | ||||||
| openCyto 1.20.2 Mike Jiang
| malbec1 | Linux (Ubuntu 16.04.6 LTS) / x86_64 | OK | OK | OK | |||||||
| merida1 | OS X 10.11.6 El Capitan / x86_64 | OK | [ OK ] | OK | OK |
| Package: openCyto |
| Version: 1.20.2 |
| Command: /Library/Frameworks/R.framework/Versions/Current/Resources/bin/R CMD build --keep-empty-dirs --no-resave-data openCyto |
| StartedAt: 2019-04-15 19:53:17 -0400 (Mon, 15 Apr 2019) |
| EndedAt: 2019-04-15 19:55:31 -0400 (Mon, 15 Apr 2019) |
| EllapsedTime: 133.9 seconds |
| RetCode: 0 |
| Status: OK |
| PackageFile: openCyto_1.20.2.tar.gz |
| PackageFileSize: 2.281 MiB |
############################################################################## ############################################################################## ### ### Running command: ### ### /Library/Frameworks/R.framework/Versions/Current/Resources/bin/R CMD build --keep-empty-dirs --no-resave-data openCyto ### ############################################################################## ############################################################################## * checking for file ‘openCyto/DESCRIPTION’ ... OK * preparing ‘openCyto’: * checking DESCRIPTION meta-information ... OK * cleaning src * installing the package to build vignettes * creating vignettes ... OK * cleaning src * checking for LF line-endings in source and make files and shell scripts * checking for empty or unneeded directories * building ‘openCyto_1.20.2.tar.gz’