Back to Multiple platform build/check report for BioC 3.8 |
|
This page was generated on 2019-04-13 11:29:24 -0400 (Sat, 13 Apr 2019).
Package 1092/1649 | Hostname | OS / Arch | INSTALL | BUILD | CHECK | BUILD BIN | ||||||
onlineFDR 1.0.0 David Robertson
| malbec1 | Linux (Ubuntu 16.04.6 LTS) / x86_64 | OK | OK | OK | ![]() | ||||||
tokay1 | Windows Server 2012 R2 Standard / x64 | OK | OK | OK | [ OK ] | ![]() | ||||||
merida1 | OS X 10.11.6 El Capitan / x86_64 | OK | OK | OK | OK | ![]() |
Package: onlineFDR |
Version: 1.0.0 |
Command: rm -rf onlineFDR.buildbin-libdir && mkdir onlineFDR.buildbin-libdir && C:\Users\biocbuild\bbs-3.8-bioc\R\bin\R.exe CMD INSTALL --merge-multiarch --build --library=onlineFDR.buildbin-libdir onlineFDR_1.0.0.tar.gz |
StartedAt: 2019-04-13 07:43:55 -0400 (Sat, 13 Apr 2019) |
EndedAt: 2019-04-13 07:44:02 -0400 (Sat, 13 Apr 2019) |
EllapsedTime: 7.6 seconds |
RetCode: 0 |
Status: OK |
PackageFile: onlineFDR_1.0.0.zip |
PackageFileSize: 285.2 KiB |
############################################################################## ############################################################################## ### ### Running command: ### ### rm -rf onlineFDR.buildbin-libdir && mkdir onlineFDR.buildbin-libdir && C:\Users\biocbuild\bbs-3.8-bioc\R\bin\R.exe CMD INSTALL --merge-multiarch --build --library=onlineFDR.buildbin-libdir onlineFDR_1.0.0.tar.gz ### ############################################################################## ############################################################################## install for i386 * installing *source* package 'onlineFDR' ... ** R ** inst ** byte-compile and prepare package for lazy loading ** help *** installing help indices converting help for package 'onlineFDR' finding HTML links ... done LOND html LORD html LORDdep html bonfInfinite html onlineFDR-package html ** building package indices ** installing vignettes ** testing if installed package can be loaded In R CMD INSTALL install for x64 * installing *source* package 'onlineFDR' ... ** testing if installed package can be loaded * MD5 sums packaged installation of 'onlineFDR' as onlineFDR_1.0.0.zip * DONE (onlineFDR) In R CMD INSTALL In R CMD INSTALL