| Back to Multiple platform build/check report for BioC 3.8 | 
  | 
This page was generated on 2019-04-13 11:23:14 -0400 (Sat, 13 Apr 2019).
| Package 1080/1649 | Hostname | OS / Arch | INSTALL | BUILD | CHECK | BUILD BIN | ||||||
| omicade4 1.22.0 Chen Meng 
  | malbec1 | Linux (Ubuntu 16.04.6 LTS) / x86_64 | OK | OK | OK | |||||||
| tokay1 | Windows Server 2012 R2 Standard / x64 | OK | OK | WARNINGS | [ OK ] | |||||||
| merida1 | OS X 10.11.6 El Capitan / x86_64 | OK | OK | OK | OK | 
| Package: omicade4 | 
| Version: 1.22.0 | 
| Command: rm -rf omicade4.buildbin-libdir && mkdir omicade4.buildbin-libdir && C:\Users\biocbuild\bbs-3.8-bioc\R\bin\R.exe CMD INSTALL --merge-multiarch --build --library=omicade4.buildbin-libdir omicade4_1.22.0.tar.gz | 
| StartedAt: 2019-04-13 07:43:18 -0400 (Sat, 13 Apr 2019) | 
| EndedAt: 2019-04-13 07:43:30 -0400 (Sat, 13 Apr 2019) | 
| EllapsedTime: 11.7 seconds | 
| RetCode: 0 | 
| Status: OK | 
| PackageFile: omicade4_1.22.0.zip | 
| PackageFileSize: 529.9 KiB | 
##############################################################################
##############################################################################
###
### Running command:
###
###   rm -rf omicade4.buildbin-libdir && mkdir omicade4.buildbin-libdir && C:\Users\biocbuild\bbs-3.8-bioc\R\bin\R.exe CMD INSTALL --merge-multiarch --build --library=omicade4.buildbin-libdir omicade4_1.22.0.tar.gz
###
##############################################################################
##############################################################################
install for i386
* installing *source* package 'omicade4' ...
** R
** data
** inst
** byte-compile and prepare package for lazy loading
** help
*** installing help indices
  converting help for package 'omicade4'
    finding HTML links ... done
    NCI60_4arrays                           html  
    mcia                                    html  
    omicade4-package                        html  
Rd warning: C:/Users/biocbuild/bbs-3.8-bioc/tmpdir/RtmpOCz0pV/R.INSTALL21846e5a5e03/omicade4/man/omicade4-package.Rd:48: file link 'ade4' in package 'ade4' does not exist and so has been treated as a topic
    plotVar                                 html  
    plotVar.cia                             html  
    plotVar.mcia                            html  
    selectVar                               html  
    selectVar.cia                           html  
    selectVar.mcia                          html  
    topVar                                  html  
    topVar.cia                              html  
    topVar.mcia                             html  
** building package indices
** installing vignettes
** testing if installed package can be loaded
In R CMD INSTALL
install for x64
* installing *source* package 'omicade4' ...
** testing if installed package can be loaded
* MD5 sums
packaged installation of 'omicade4' as omicade4_1.22.0.zip
* DONE (omicade4)
In R CMD INSTALL
In R CMD INSTALL