| Back to Multiple platform build/check report for BioC 3.8 |
|
This page was generated on 2019-04-13 11:20:32 -0400 (Sat, 13 Apr 2019).
| Package 1076/1649 | Hostname | OS / Arch | INSTALL | BUILD | CHECK | BUILD BIN | ||||||
| oligoClasses 1.44.0 Benilton Carvalho
| malbec1 | Linux (Ubuntu 16.04.6 LTS) / x86_64 | OK | OK | WARNINGS | |||||||
| tokay1 | Windows Server 2012 R2 Standard / x64 | OK | OK | WARNINGS | [ OK ] | |||||||
| merida1 | OS X 10.11.6 El Capitan / x86_64 | OK | OK | WARNINGS | OK |
| Package: oligoClasses |
| Version: 1.44.0 |
| Command: rm -rf oligoClasses.buildbin-libdir && mkdir oligoClasses.buildbin-libdir && C:\Users\biocbuild\bbs-3.8-bioc\R\bin\R.exe CMD INSTALL --merge-multiarch --build --library=oligoClasses.buildbin-libdir oligoClasses_1.44.0.tar.gz |
| StartedAt: 2019-04-13 07:43:11 -0400 (Sat, 13 Apr 2019) |
| EndedAt: 2019-04-13 07:43:48 -0400 (Sat, 13 Apr 2019) |
| EllapsedTime: 37.5 seconds |
| RetCode: 0 |
| Status: OK |
| PackageFile: oligoClasses_1.44.0.zip |
| PackageFileSize: 1.535 MiB |
##############################################################################
##############################################################################
###
### Running command:
###
### rm -rf oligoClasses.buildbin-libdir && mkdir oligoClasses.buildbin-libdir && C:\Users\biocbuild\bbs-3.8-bioc\R\bin\R.exe CMD INSTALL --merge-multiarch --build --library=oligoClasses.buildbin-libdir oligoClasses_1.44.0.tar.gz
###
##############################################################################
##############################################################################
install for i386
* installing *source* package 'oligoClasses' ...
** R
** data
** inst
** byte-compile and prepare package for lazy loading
** help
*** installing help indices
converting help for package 'oligoClasses'
finding HTML links ... done
AlleleSet-class html
finding level-2 HTML links ... done
AlleleSet-methods html
AssayData-methods html
AssayDataList html
BeadStudioSet-class html
BeadStudioSetList-class html
CNSet-class html
ClassesNotExported html
CopyNumberSet-class html
CopyNumberSet-methods html
DBPDInfo-class html
FeatureSetExtensions-class html
GRanges-methods html
GenomeAnnotatedDataFrame-class html
GenomeAnnotatedDataFrameFrom-methods html
SnpSet-methods html
SnpSet2-class html
SnpSuperSet-class html
SummarizedExperiment-methods html
affyPlatforms html
annotationPackages html
assayDataList-methods html
batch html
batchStatistics html
celfileDate html
celfileName html
checkExists html
checkOrder html
chromosome-methods html
chromosome2integer html
clusterOpts html
clusterOptsDeprecated html
createFF html
data-efsExample html
data-scqsExample html
data-sfsExample html
data-sqsExample html
db html
defunct html
exprs-methods html
featureDataList-methods html
ff_matrix html
ff_or_matrix-class html
ffdf html
fileConnections html
flags html
gSet-class html
gSetList-class html
generics html
genomeBuild html
geometry-methods html
getBar html
getSequenceLengths html
i2p_p2i html
integerMatrix html
is.ffmatrix html
isPackageLoaded html
isSnp-methods html
kind html
largeObjects html
ldOpts html
length-methods html
library2 html
list.celfiles html
locusLevelData html
makeFeatureGRanges html
manufacturer-methods html
ocLapply html
oligoSetExample html
oligoSnpSet-methods html
parStatus html
pdPkgFromBioC html
platform-methods html
pmFragmentLength-methods html
position-methods html
requireAnnotation html
requireClusterPkgSetDeprecated html
sampleNames-methods html
splitVec html
** building package indices
** installing vignettes
** testing if installed package can be loaded
In R CMD INSTALL
install for x64
* installing *source* package 'oligoClasses' ...
** testing if installed package can be loaded
* MD5 sums
packaged installation of 'oligoClasses' as oligoClasses_1.44.0.zip
* DONE (oligoClasses)
In R CMD INSTALL
In R CMD INSTALL