Back to Multiple platform build/check report for BioC 3.8
ABCDEFGHIJKLM[N]OPQRSTUVWXYZ

CHECK report for nudge on malbec1

This page was generated on 2018-06-06 10:00:28 -0400 (Wed, 06 Jun 2018).

Package 1007/1562HostnameOS / ArchINSTALLBUILDCHECKBUILD BIN
nudge 1.47.0
N. Dean
Snapshot Date: 2018-06-05 16:45:37 -0400 (Tue, 05 Jun 2018)
URL: https://git.bioconductor.org/packages/nudge
Branch: master
Last Commit: 910c50d
Last Changed Date: 2018-04-30 10:41:37 -0400 (Mon, 30 Apr 2018)
malbec1 Linux (Ubuntu 16.04.1 LTS) / x86_64  OK  OK [ OK ]UNNEEDED, same version exists in internal repository
tokay1 Windows Server 2012 R2 Standard / x64  OK  OK  OK  OK UNNEEDED, same version exists in internal repository
merida1 OS X 10.11.6 El Capitan / x86_64  OK  OK  OK  OK UNNEEDED, same version exists in internal repository

Summary

Package: nudge
Version: 1.47.0
Command: /home/biocbuild/bbs-3.8-bioc/R/bin/R CMD check --install=check:nudge.install-out.txt --library=/home/biocbuild/bbs-3.8-bioc/R/library --no-vignettes --timings nudge_1.47.0.tar.gz
StartedAt: 2018-06-06 02:16:56 -0400 (Wed, 06 Jun 2018)
EndedAt: 2018-06-06 02:17:22 -0400 (Wed, 06 Jun 2018)
EllapsedTime: 26.0 seconds
RetCode: 0
Status:  OK 
CheckDir: nudge.Rcheck
Warnings: 0

Command output

##############################################################################
##############################################################################
###
### Running command:
###
###   /home/biocbuild/bbs-3.8-bioc/R/bin/R CMD check --install=check:nudge.install-out.txt --library=/home/biocbuild/bbs-3.8-bioc/R/library --no-vignettes --timings nudge_1.47.0.tar.gz
###
##############################################################################
##############################################################################


* using log directory ‘/home/biocbuild/bbs-3.8-bioc/meat/nudge.Rcheck’
* using R version 3.5.0 Patched (2018-05-03 r74699)
* using platform: x86_64-pc-linux-gnu (64-bit)
* using session charset: UTF-8
* using option ‘--no-vignettes’
* checking for file ‘nudge/DESCRIPTION’ ... OK
* this is package ‘nudge’ version ‘1.47.0’
* checking package namespace information ... OK
* checking package dependencies ... OK
* checking if this is a source package ... OK
* checking if there is a namespace ... OK
* checking for hidden files and directories ... OK
* checking for portable file names ... OK
* checking for sufficient/correct file permissions ... OK
* checking whether package ‘nudge’ can be installed ... OK
* checking installed package size ... OK
* checking package directory ... OK
* checking ‘build’ directory ... OK
* checking DESCRIPTION meta-information ... NOTE
Malformed Description field: should contain one or more complete sentences.
* checking top-level files ... OK
* checking for left-over files ... OK
* checking index information ... OK
* checking package subdirectories ... OK
* checking R files for non-ASCII characters ... OK
* checking R files for syntax errors ... OK
* checking whether the package can be loaded ... OK
* checking whether the package can be loaded with stated dependencies ... OK
* checking whether the package can be unloaded cleanly ... OK
* checking whether the namespace can be loaded with stated dependencies ... OK
* checking whether the namespace can be unloaded cleanly ... OK
* checking dependencies in R code ... OK
* checking S3 generic/method consistency ... OK
* checking replacement functions ... OK
* checking foreign function calls ... OK
* checking R code for possible problems ... OK
* checking Rd files ... OK
* checking Rd metadata ... OK
* checking Rd cross-references ... OK
* checking for missing documentation entries ... OK
* checking for code/documentation mismatches ... OK
* checking Rd \usage sections ... OK
* checking Rd contents ... OK
* checking for unstated dependencies in examples ... OK
* checking contents of ‘data’ directory ... OK
* checking data for non-ASCII characters ... OK
* checking data for ASCII and uncompressed saves ... OK
* checking files in ‘vignettes’ ... OK
* checking examples ... OK
* checking for unstated dependencies in vignettes ... OK
* checking package vignettes in ‘inst/doc’ ... OK
* checking running R code from vignettes ... SKIPPED
* checking re-building of vignette outputs ... SKIPPED
* checking PDF version of manual ... OK
* DONE

Status: 1 NOTE
See
  ‘/home/biocbuild/bbs-3.8-bioc/meat/nudge.Rcheck/00check.log’
for details.



Installation output

nudge.Rcheck/00install.out

##############################################################################
##############################################################################
###
### Running command:
###
###   /home/biocbuild/bbs-3.8-bioc/R/bin/R CMD INSTALL nudge
###
##############################################################################
##############################################################################


* installing to library ‘/home/biocbuild/bbs-3.8-bioc/R/library’
* installing *source* package ‘nudge’ ...
** R
** data
** byte-compile and prepare package for lazy loading
** help
*** installing help indices
** building package indices
** installing vignettes
** testing if installed package can be loaded
* DONE (nudge)

Tests output


Example timings

nudge.Rcheck/nudge-Ex.timings

nameusersystemelapsed
norm1a0.5160.0040.522
norm1b0.6800.0000.683
norm1c0.2480.0000.248
norm1d0.2840.0040.287
norm2c0.8720.0042.640
norm2d1.8800.0043.751
nudge11.1080.0001.109
nudge21.3160.0002.667