| Back to Multiple platform build/check report for BioC 3.8 |
|
This page was generated on 2019-04-16 11:48:59 -0400 (Tue, 16 Apr 2019).
| Package 1052/1649 | Hostname | OS / Arch | INSTALL | BUILD | CHECK | BUILD BIN | ||||||
| netresponse 1.42.0 Leo Lahti
| malbec1 | Linux (Ubuntu 16.04.6 LTS) / x86_64 | [ OK ] | OK | WARNINGS | |||||||
| merida1 | OS X 10.11.6 El Capitan / x86_64 | OK | OK | WARNINGS | OK |
| Package: netresponse |
| Version: 1.42.0 |
| Command: /home/biocbuild/bbs-3.8-bioc/R/bin/R CMD INSTALL netresponse |
| StartedAt: 2019-04-15 18:11:34 -0400 (Mon, 15 Apr 2019) |
| EndedAt: 2019-04-15 18:11:45 -0400 (Mon, 15 Apr 2019) |
| EllapsedTime: 11.7 seconds |
| RetCode: 0 |
| Status: OK |
##############################################################################
##############################################################################
###
### Running command:
###
### /home/biocbuild/bbs-3.8-bioc/R/bin/R CMD INSTALL netresponse
###
##############################################################################
##############################################################################
* installing to library ‘/home/biocbuild/bbs-3.8-bioc/R/library’
* installing *source* package ‘netresponse’ ...
** libs
gcc -I"/home/biocbuild/bbs-3.8-bioc/R/include" -DNDEBUG -I/usr/local/include -fpic -g -O2 -Wall -c netresponse.c -o netresponse.o
netresponse.c: In function ‘mHPpost’:
netresponse.c:264:15: warning: unused variable ‘prior_fields’ [-Wunused-variable]
const char *prior_fields[]={"Mumu","S2mu",
^
netresponse.c: In function ‘mLogLambda’:
netresponse.c:713:3: warning: ‘U_p’ may be used uninitialized in this function [-Wmaybe-uninitialized]
vdp_mk_log_lambda(Mumu, S2mu, Mubar, Mutilde,
^
netresponse.c:713:3: warning: ‘KsiBeta’ may be used uninitialized in this function [-Wmaybe-uninitialized]
netresponse.c:713:3: warning: ‘KsiAlpha’ may be used uninitialized in this function [-Wmaybe-uninitialized]
netresponse.c:713:3: warning: ‘BetaKsi’ may be used uninitialized in this function [-Wmaybe-uninitialized]
netresponse.c:713:3: warning: ‘AlphaKsi’ may be used uninitialized in this function [-Wmaybe-uninitialized]
netresponse.c:713:3: warning: ‘Mutilde’ may be used uninitialized in this function [-Wmaybe-uninitialized]
netresponse.c:713:3: warning: ‘Mubar’ may be used uninitialized in this function [-Wmaybe-uninitialized]
netresponse.c:713:3: warning: ‘S2mu’ may be used uninitialized in this function [-Wmaybe-uninitialized]
netresponse.c:713:3: warning: ‘Mumu’ may be used uninitialized in this function [-Wmaybe-uninitialized]
gcc -shared -L/home/biocbuild/bbs-3.8-bioc/R/lib -L/usr/local/lib -o netresponse.so netresponse.o -L/home/biocbuild/bbs-3.8-bioc/R/lib -lR
installing to /home/biocbuild/bbs-3.8-bioc/R/library/netresponse/libs
** R
** data
** inst
** byte-compile and prepare package for lazy loading
** help
*** installing help indices
** building package indices
** installing vignettes
** testing if installed package can be loaded
* DONE (netresponse)