| Back to Multiple platform build/check report for BioC 3.8 | 
  | 
This page was generated on 2019-04-13 11:26:46 -0400 (Sat, 13 Apr 2019).
| Package 1050/1649 | Hostname | OS / Arch | INSTALL | BUILD | CHECK | BUILD BIN | ||||||
| netprioR 1.8.1 Fabian Schmich 
  | malbec1 | Linux (Ubuntu 16.04.6 LTS) / x86_64 | OK | OK | OK | |||||||
| tokay1 | Windows Server 2012 R2 Standard / x64 | OK | OK | OK | [ OK ] | |||||||
| merida1 | OS X 10.11.6 El Capitan / x86_64 | OK | OK | OK | OK | 
| Package: netprioR | 
| Version: 1.8.1 | 
| Command: rm -rf netprioR.buildbin-libdir && mkdir netprioR.buildbin-libdir && C:\Users\biocbuild\bbs-3.8-bioc\R\bin\R.exe CMD INSTALL --merge-multiarch --build --library=netprioR.buildbin-libdir netprioR_1.8.1.tar.gz | 
| StartedAt: 2019-04-13 07:42:07 -0400 (Sat, 13 Apr 2019) | 
| EndedAt: 2019-04-13 07:42:22 -0400 (Sat, 13 Apr 2019) | 
| EllapsedTime: 14.9 seconds | 
| RetCode: 0 | 
| Status: OK | 
| PackageFile: netprioR_1.8.1.zip | 
| PackageFileSize: 548.4 KiB | 
##############################################################################
##############################################################################
###
### Running command:
###
###   rm -rf netprioR.buildbin-libdir && mkdir netprioR.buildbin-libdir && C:\Users\biocbuild\bbs-3.8-bioc\R\bin\R.exe CMD INSTALL --merge-multiarch --build --library=netprioR.buildbin-libdir netprioR_1.8.1.tar.gz
###
##############################################################################
##############################################################################
install for i386
* installing *source* package 'netprioR' ...
** R
** data
*** moving datasets to lazyload DB
** inst
** byte-compile and prepare package for lazy loading
** help
*** installing help indices
  converting help for package 'netprioR'
    finding HTML links ... done
    ROC-methods                             html  
    bandwidth                               html  
    cmn                                     html  
    conjugate_gradient                      html  
    cuthill_mckee                           html  
    fit-methods                             html  
    laplacian                               html  
    learn                                   html  
    netprioR-class                          html  
    netprioR-package                        html  
    norm_kern                               html  
    plot.netprioR                           html  
    ranks-methods                           html  
    simulate_labels                         html  
    simulate_network_random                 html  
    simulate_network_scalefree              html  
    simulate_phenotype                      html  
    simulation                              html  
    weights-methods                         html  
** building package indices
** installing vignettes
** testing if installed package can be loaded
In R CMD INSTALL
install for x64
* installing *source* package 'netprioR' ...
** testing if installed package can be loaded
* MD5 sums
packaged installation of 'netprioR' as netprioR_1.8.1.zip
* DONE (netprioR)
In R CMD INSTALL
In R CMD INSTALL