| Back to Multiple platform build/check report for BioC 3.8 | 
  | 
This page was generated on 2019-04-13 11:25:02 -0400 (Sat, 13 Apr 2019).
| Package 1046/1649 | Hostname | OS / Arch | INSTALL | BUILD | CHECK | BUILD BIN | ||||||
| netbenchmark 1.14.0 Pau Bellot 
  | malbec1 | Linux (Ubuntu 16.04.6 LTS) / x86_64 | OK | OK | WARNINGS | |||||||
| tokay1 | Windows Server 2012 R2 Standard / x64 | OK | OK | WARNINGS | [ OK ] | |||||||
| merida1 | OS X 10.11.6 El Capitan / x86_64 | OK | OK | WARNINGS | OK | 
| Package: netbenchmark | 
| Version: 1.14.0 | 
| Command: rm -rf netbenchmark.buildbin-libdir && mkdir netbenchmark.buildbin-libdir && C:\Users\biocbuild\bbs-3.8-bioc\R\bin\R.exe CMD INSTALL --merge-multiarch --build --library=netbenchmark.buildbin-libdir netbenchmark_1.14.0.tar.gz | 
| StartedAt: 2019-04-13 07:41:59 -0400 (Sat, 13 Apr 2019) | 
| EndedAt: 2019-04-13 07:42:31 -0400 (Sat, 13 Apr 2019) | 
| EllapsedTime: 32.8 seconds | 
| RetCode: 0 | 
| Status: OK | 
| PackageFile: netbenchmark_1.14.0.zip | 
| PackageFileSize: 728.4 KiB | 
##############################################################################
##############################################################################
###
### Running command:
###
###   rm -rf netbenchmark.buildbin-libdir && mkdir netbenchmark.buildbin-libdir && C:\Users\biocbuild\bbs-3.8-bioc\R\bin\R.exe CMD INSTALL --merge-multiarch --build --library=netbenchmark.buildbin-libdir netbenchmark_1.14.0.tar.gz
###
##############################################################################
##############################################################################
install for i386
* installing *source* package 'netbenchmark' ...
** libs
C:/Rtools/mingw_32/bin/g++  -I"C:/Users/BIOCBU˜1/BBS-3˜1.8-B/R/include" -DNDEBUG  -I"C:/Users/biocbuild/bbs-3.8-bioc/R/library/Rcpp/include"   -I"C:/extsoft/include"     -O2 -Wall  -mtune=generic -c RcppExports.cpp -o RcppExports.o
C:/Rtools/mingw_32/bin/gcc  -I"C:/Users/BIOCBU˜1/BBS-3˜1.8-B/R/include" -DNDEBUG  -I"C:/Users/biocbuild/bbs-3.8-bioc/R/library/Rcpp/include"   -I"C:/extsoft/include"     -O3 -Wall  -std=gnu99 -mtune=generic -c netbenchmark_init.c -o netbenchmark_init.o
C:/Rtools/mingw_32/bin/g++  -I"C:/Users/BIOCBU˜1/BBS-3˜1.8-B/R/include" -DNDEBUG  -I"C:/Users/biocbuild/bbs-3.8-bioc/R/library/Rcpp/include"   -I"C:/extsoft/include"     -O2 -Wall  -mtune=generic -c rate.cpp -o rate.o
C:/Rtools/mingw_32/bin/g++  -I"C:/Users/BIOCBU˜1/BBS-3˜1.8-B/R/include" -DNDEBUG  -I"C:/Users/biocbuild/bbs-3.8-bioc/R/library/Rcpp/include"   -I"C:/extsoft/include"     -O2 -Wall  -mtune=generic -c zsc.cpp -o zsc.o
C:/Rtools/mingw_32/bin/g++ -shared -s -static-libgcc -o netbenchmark.dll tmp.def RcppExports.o netbenchmark_init.o rate.o zsc.o -LC:/extsoft/lib/i386 -LC:/extsoft/lib -LC:/Users/BIOCBU˜1/BBS-3˜1.8-B/R/bin/i386 -lR
installing to C:/Users/biocbuild/bbs-3.8-bioc/meat/netbenchmark.buildbin-libdir/netbenchmark/libs/i386
** R
** inst
** byte-compile and prepare package for lazy loading
** help
*** installing help indices
  converting help for package 'netbenchmark'
    finding HTML links ... done
    GeneNet.wrap                            html  
Rd warning: C:/Users/biocbuild/bbs-3.8-bioc/tmpdir/Rtmp4q6Jm8/R.INSTALL27e822453d54/netbenchmark/man/GeneNet.wrap.Rd:48: file link 'GeneNet-package' in package 'GeneNet' does not exist and so has been treated as a topic
    Genie3.wrap                             html  
    RegistrerWrapper                        html  
    aracne.wrap                             html  
    c3net.wrap                              html  
    clr.wrap                                html  
    comp.metr                               html  
    datasource.subsample                    html  
Rd warning: C:/Users/biocbuild/bbs-3.8-bioc/tmpdir/Rtmp4q6Jm8/R.INSTALL27e822453d54/netbenchmark/man/datasource.subsample.Rd:35: file link 'set.seed' in package 'base' does not exist and so has been treated as a topic
    evaluate                                html  
    experiments.bench                       html  
Rd warning: C:/Users/biocbuild/bbs-3.8-bioc/tmpdir/Rtmp4q6Jm8/R.INSTALL27e822453d54/netbenchmark/man/experiments.bench.Rd:48: file link 'set.seed' in package 'base' does not exist and so has been treated as a topic
Rd warning: C:/Users/biocbuild/bbs-3.8-bioc/tmpdir/Rtmp4q6Jm8/R.INSTALL27e822453d54/netbenchmark/man/experiments.bench.Rd:77: file link 'rnorm' in package 'stats' does not exist and so has been treated as a topic
Rd warning: C:/Users/biocbuild/bbs-3.8-bioc/tmpdir/Rtmp4q6Jm8/R.INSTALL27e822453d54/netbenchmark/man/experiments.bench.Rd:78: file link 'rlnorm' in package 'stats' does not exist and so has been treated as a topic
    mrnet.wrap                              html  
    mrnetb.wrap                             html  
    mutrank.wrap                            html  
    netbenchmark-package                    html  
    netbenchmark                            html  
Rd warning: C:/Users/biocbuild/bbs-3.8-bioc/tmpdir/Rtmp4q6Jm8/R.INSTALL27e822453d54/netbenchmark/man/netbenchmark.Rd:40: file link 'set.seed' in package 'base' does not exist and so has been treated as a topic
    netbenchmark.data                       html  
    noise.bench                             html  
Rd warning: C:/Users/biocbuild/bbs-3.8-bioc/tmpdir/Rtmp4q6Jm8/R.INSTALL27e822453d54/netbenchmark/man/noise.bench.Rd:46: file link 'set.seed' in package 'base' does not exist and so has been treated as a topic
    ntb_globals                             html  
    pcit.wrap                               html  
    rate                                    html  
    zsc                                     html  
    zscore.wrap                             html  
** building package indices
** installing vignettes
** testing if installed package can be loaded
In R CMD INSTALL
install for x64
* installing *source* package 'netbenchmark' ...
** libs
C:/Rtools/mingw_64/bin/g++  -I"C:/Users/BIOCBU˜1/BBS-3˜1.8-B/R/include" -DNDEBUG  -I"C:/Users/biocbuild/bbs-3.8-bioc/R/library/Rcpp/include"   -I"C:/extsoft/include"     -O2 -Wall  -mtune=generic -c RcppExports.cpp -o RcppExports.o
C:/Rtools/mingw_64/bin/gcc  -I"C:/Users/BIOCBU˜1/BBS-3˜1.8-B/R/include" -DNDEBUG  -I"C:/Users/biocbuild/bbs-3.8-bioc/R/library/Rcpp/include"   -I"C:/extsoft/include"     -O2 -Wall  -std=gnu99 -mtune=generic -c netbenchmark_init.c -o netbenchmark_init.o
C:/Rtools/mingw_64/bin/g++  -I"C:/Users/BIOCBU˜1/BBS-3˜1.8-B/R/include" -DNDEBUG  -I"C:/Users/biocbuild/bbs-3.8-bioc/R/library/Rcpp/include"   -I"C:/extsoft/include"     -O2 -Wall  -mtune=generic -c rate.cpp -o rate.o
C:/Rtools/mingw_64/bin/g++  -I"C:/Users/BIOCBU˜1/BBS-3˜1.8-B/R/include" -DNDEBUG  -I"C:/Users/biocbuild/bbs-3.8-bioc/R/library/Rcpp/include"   -I"C:/extsoft/include"     -O2 -Wall  -mtune=generic -c zsc.cpp -o zsc.o
C:/Rtools/mingw_64/bin/g++ -shared -s -static-libgcc -o netbenchmark.dll tmp.def RcppExports.o netbenchmark_init.o rate.o zsc.o -LC:/extsoft/lib/x64 -LC:/extsoft/lib -LC:/Users/BIOCBU˜1/BBS-3˜1.8-B/R/bin/x64 -lR
installing to C:/Users/biocbuild/bbs-3.8-bioc/meat/netbenchmark.buildbin-libdir/netbenchmark/libs/x64
** testing if installed package can be loaded
* MD5 sums
packaged installation of 'netbenchmark' as netbenchmark_1.14.0.zip
* DONE (netbenchmark)
In R CMD INSTALL
In R CMD INSTALL