| Back to Multiple platform build/check report for BioC 3.8 |
|
This page was generated on 2019-04-16 12:09:48 -0400 (Tue, 16 Apr 2019).
| Package 1054/1649 | Hostname | OS / Arch | INSTALL | BUILD | CHECK | BUILD BIN | ||||||
| netSmooth 1.2.0 Jonathan Ronen
| malbec1 | Linux (Ubuntu 16.04.6 LTS) / x86_64 | OK | OK | OK | |||||||
| merida1 | OS X 10.11.6 El Capitan / x86_64 | [ ERROR ] | ERROR | skipped | skipped |
| Package: netSmooth |
| Version: 1.2.0 |
| Command: /Library/Frameworks/R.framework/Versions/Current/Resources/bin/R CMD INSTALL netSmooth |
| StartedAt: 2019-04-15 18:49:02 -0400 (Mon, 15 Apr 2019) |
| EndedAt: 2019-04-15 18:49:11 -0400 (Mon, 15 Apr 2019) |
| EllapsedTime: 8.7 seconds |
| RetCode: 1 |
| Status: ERROR |
############################################################################## ############################################################################## ### ### Running command: ### ### /Library/Frameworks/R.framework/Versions/Current/Resources/bin/R CMD INSTALL netSmooth ### ############################################################################## ############################################################################## * installing to library ‘/Library/Frameworks/R.framework/Versions/3.5/Resources/library’ ERROR: dependency ‘clusterExperiment’ is not available for package ‘netSmooth’ * removing ‘/Library/Frameworks/R.framework/Versions/3.5/Resources/library/netSmooth’