| Back to Multiple platform build/check report for BioC 3.8 |
|
This page was generated on 2019-04-16 11:49:27 -0400 (Tue, 16 Apr 2019).
| Package 1041/1649 | Hostname | OS / Arch | INSTALL | BUILD | CHECK | BUILD BIN | ||||||
| ncdfFlow 2.28.1 Mike Jiang
| malbec1 | Linux (Ubuntu 16.04.6 LTS) / x86_64 | OK | OK | [ OK ] | |||||||
| merida1 | OS X 10.11.6 El Capitan / x86_64 | OK | OK | OK | OK |
| Package: ncdfFlow |
| Version: 2.28.1 |
| Command: /home/biocbuild/bbs-3.8-bioc/R/bin/R CMD check --install=check:ncdfFlow.install-out.txt --library=/home/biocbuild/bbs-3.8-bioc/R/library --no-vignettes --timings ncdfFlow_2.28.1.tar.gz |
| StartedAt: 2019-04-16 01:44:32 -0400 (Tue, 16 Apr 2019) |
| EndedAt: 2019-04-16 01:45:46 -0400 (Tue, 16 Apr 2019) |
| EllapsedTime: 74.3 seconds |
| RetCode: 0 |
| Status: OK |
| CheckDir: ncdfFlow.Rcheck |
| Warnings: 0 |
##############################################################################
##############################################################################
###
### Running command:
###
### /home/biocbuild/bbs-3.8-bioc/R/bin/R CMD check --install=check:ncdfFlow.install-out.txt --library=/home/biocbuild/bbs-3.8-bioc/R/library --no-vignettes --timings ncdfFlow_2.28.1.tar.gz
###
##############################################################################
##############################################################################
* using log directory ‘/home/biocbuild/bbs-3.8-bioc/meat/ncdfFlow.Rcheck’
* using R version 3.5.3 (2019-03-11)
* using platform: x86_64-pc-linux-gnu (64-bit)
* using session charset: UTF-8
* using option ‘--no-vignettes’
* checking for file ‘ncdfFlow/DESCRIPTION’ ... OK
* this is package ‘ncdfFlow’ version ‘2.28.1’
* checking package namespace information ... OK
* checking package dependencies ... OK
* checking if this is a source package ... OK
* checking if there is a namespace ... OK
* checking for hidden files and directories ... OK
* checking for portable file names ... OK
* checking for sufficient/correct file permissions ... OK
* checking whether package ‘ncdfFlow’ can be installed ... OK
* checking installed package size ... NOTE
installed size is 21.6Mb
sub-directories of 1Mb or more:
lib 6.2Mb
libs 14.7Mb
* checking package directory ... OK
* checking ‘build’ directory ... OK
* checking DESCRIPTION meta-information ... NOTE
Malformed Title field: should not end in a period.
Package listed in more than one of Depends, Imports, Suggests, Enhances:
‘flowCore’
A package should be listed in only one of these fields.
* checking top-level files ... OK
* checking for left-over files ... OK
* checking index information ... OK
* checking package subdirectories ... OK
* checking R files for non-ASCII characters ... OK
* checking R files for syntax errors ... OK
* checking whether the package can be loaded ... OK
* checking whether the package can be loaded with stated dependencies ... OK
* checking whether the package can be unloaded cleanly ... OK
* checking whether the namespace can be loaded with stated dependencies ... OK
* checking whether the namespace can be unloaded cleanly ... OK
* checking dependencies in R code ... NOTE
'library' or 'require' call to ‘parallel’ in package code.
Please use :: or requireNamespace() instead.
See section 'Suggested packages' in the 'Writing R Extensions' manual.
Packages in Depends field not imported from:
‘BH’ ‘RcppArmadillo’
These packages need to be imported from (in the NAMESPACE file)
for when this namespace is loaded but not attached.
* checking S3 generic/method consistency ... OK
* checking replacement functions ... OK
* checking foreign function calls ... OK
* checking R code for possible problems ... NOTE
ncdfFlowSet,flowSet: warning in assign(guid, new("flowFrame", exprs =
matrix(numeric(0), nrow = 0, ncol = 0), parameters(x[[guid]]),
description(x[[guid]])), env = e1): partial argument match of 'env'
to 'envir'
rbind2,ncdfFlowList-ANY : <anonymous> : <anonymous>: warning in
assign(curSample, NA, env = indiceEnv): partial argument match of
'env' to 'envir'
read.ncdfFlowSet: no visible global function definition for ‘mclapply’
colnames<-,ncdfFlowSet: no visible global function definition for
‘keyword’
colnames<-,ncdfFlowSet: no visible global function definition for
‘keyword<-’
Undefined global functions or variables:
keyword keyword<- mclapply
* checking Rd files ... OK
* checking Rd metadata ... OK
* checking Rd cross-references ... OK
* checking for missing documentation entries ... OK
* checking for code/documentation mismatches ... OK
* checking Rd \usage sections ... OK
* checking Rd contents ... OK
* checking for unstated dependencies in examples ... OK
* checking line endings in C/C++/Fortran sources/headers ... OK
* checking line endings in Makefiles ... OK
* checking compilation flags in Makevars ... OK
* checking for GNU extensions in Makefiles ... OK
* checking for portable use of $(BLAS_LIBS) and $(LAPACK_LIBS) ... OK
* checking compiled code ... NOTE
Note: information on .o files is not available
File ‘/home/biocbuild/bbs-3.8-bioc/R/library/ncdfFlow/libs/ncdfFlow.so’:
Found ‘abort’, possibly from ‘abort’ (C)
Found ‘rand_r’, possibly from ‘rand_r’ (C)
Found ‘stderr’, possibly from ‘stderr’ (C)
Found ‘stdout’, possibly from ‘stdout’ (C)
Compiled code should not call entry points which might terminate R nor
write to stdout/stderr instead of to the console, nor use Fortran I/O
nor system RNGs. The detected symbols are linked into the code but
might come from libraries and not actually be called.
See ‘Writing portable packages’ in the ‘Writing R Extensions’ manual.
* checking files in ‘vignettes’ ... OK
* checking examples ... OK
* checking for unstated dependencies in ‘tests’ ... OK
* checking tests ...
Running ‘testthat.R’
OK
* checking for unstated dependencies in vignettes ... OK
* checking package vignettes in ‘inst/doc’ ... OK
* checking running R code from vignettes ... SKIPPED
* checking re-building of vignette outputs ... SKIPPED
* checking PDF version of manual ... OK
* DONE
Status: 5 NOTEs
See
‘/home/biocbuild/bbs-3.8-bioc/meat/ncdfFlow.Rcheck/00check.log’
for details.
ncdfFlow.Rcheck/00install.out
##############################################################################
##############################################################################
###
### Running command:
###
### /home/biocbuild/bbs-3.8-bioc/R/bin/R CMD INSTALL ncdfFlow
###
##############################################################################
##############################################################################
* installing to library ‘/home/biocbuild/bbs-3.8-bioc/R/library’
* installing *source* package ‘ncdfFlow’ ...
** libs
g++ -I"/home/biocbuild/bbs-3.8-bioc/R/include" -DNDEBUG -I"/home/biocbuild/bbs-3.8-bioc/R/library/Rcpp/include" -I"/home/biocbuild/bbs-3.8-bioc/R/library/RcppArmadillo/include" -I"/home/biocbuild/bbs-3.8-bioc/R/library/BH/include" -I"/home/biocbuild/bbs-3.8-bioc/R/library/Rhdf5lib/include" -I/usr/local/include -fpic -g -O2 -Wall -c RcppExports.cpp -o RcppExports.o
In file included from /home/biocbuild/bbs-3.8-bioc/R/library/RcppArmadillo/include/armadillo:54:0,
from /home/biocbuild/bbs-3.8-bioc/R/library/RcppArmadillo/include/RcppArmadilloForward.h:46,
from /home/biocbuild/bbs-3.8-bioc/R/library/RcppArmadillo/include/RcppArmadillo.h:31,
from ../inst/include/../../src/hdfFlow.h:5,
from ../inst/include/ncdfFlow.h:4,
from RcppExports.cpp:4:
/home/biocbuild/bbs-3.8-bioc/R/library/RcppArmadillo/include/armadillo_bits/compiler_setup.hpp:514:108: note: #pragma message: NOTE: suggest to enable C++14 mode for faster code; add -std=c++14 to compiler flags
#pragma message ("NOTE: suggest to enable C++14 mode for faster code; add -std=c++14 to compiler flags")
^
g++ -I"/home/biocbuild/bbs-3.8-bioc/R/include" -DNDEBUG -I"/home/biocbuild/bbs-3.8-bioc/R/library/Rcpp/include" -I"/home/biocbuild/bbs-3.8-bioc/R/library/RcppArmadillo/include" -I"/home/biocbuild/bbs-3.8-bioc/R/library/BH/include" -I"/home/biocbuild/bbs-3.8-bioc/R/library/Rhdf5lib/include" -I/usr/local/include -fpic -g -O2 -Wall -c bitOps.cpp -o bitOps.o
g++ -I"/home/biocbuild/bbs-3.8-bioc/R/include" -DNDEBUG -I"/home/biocbuild/bbs-3.8-bioc/R/library/Rcpp/include" -I"/home/biocbuild/bbs-3.8-bioc/R/library/RcppArmadillo/include" -I"/home/biocbuild/bbs-3.8-bioc/R/library/BH/include" -I"/home/biocbuild/bbs-3.8-bioc/R/library/Rhdf5lib/include" -I/usr/local/include -fpic -g -O2 -Wall -c hdfFlow.cpp -o hdfFlow.o
In file included from /home/biocbuild/bbs-3.8-bioc/R/library/RcppArmadillo/include/armadillo:54:0,
from /home/biocbuild/bbs-3.8-bioc/R/library/RcppArmadillo/include/RcppArmadilloForward.h:46,
from /home/biocbuild/bbs-3.8-bioc/R/library/RcppArmadillo/include/RcppArmadillo.h:31,
from hdfFlow.h:5,
from hdfFlow.cpp:1:
/home/biocbuild/bbs-3.8-bioc/R/library/RcppArmadillo/include/armadillo_bits/compiler_setup.hpp:514:108: note: #pragma message: NOTE: suggest to enable C++14 mode for faster code; add -std=c++14 to compiler flags
#pragma message ("NOTE: suggest to enable C++14 mode for faster code; add -std=c++14 to compiler flags")
^
hdfFlow.cpp: In function ‘void readSlice_cpp(hid_t, hid_t, hid_t, std::vector<unsigned int, std::allocator<unsigned int> >, unsigned int, unsigned int, double*, bool)’:
hdfFlow.cpp:486:14: warning: variable ‘status’ set but not used [-Wunused-but-set-variable]
herr_t status;
^
gcc -I"/home/biocbuild/bbs-3.8-bioc/R/include" -DNDEBUG -I"/home/biocbuild/bbs-3.8-bioc/R/library/Rcpp/include" -I"/home/biocbuild/bbs-3.8-bioc/R/library/RcppArmadillo/include" -I"/home/biocbuild/bbs-3.8-bioc/R/library/BH/include" -I"/home/biocbuild/bbs-3.8-bioc/R/library/Rhdf5lib/include" -I/usr/local/include -fpic -g -O2 -Wall -c init.c -o init.o
g++ -I"/home/biocbuild/bbs-3.8-bioc/R/include" -DNDEBUG -I"/home/biocbuild/bbs-3.8-bioc/R/library/Rcpp/include" -I"/home/biocbuild/bbs-3.8-bioc/R/library/RcppArmadillo/include" -I"/home/biocbuild/bbs-3.8-bioc/R/library/BH/include" -I"/home/biocbuild/bbs-3.8-bioc/R/library/Rhdf5lib/include" -I/usr/local/include -fpic -g -O2 -Wall -c readFrame.cpp -o readFrame.o
In file included from /home/biocbuild/bbs-3.8-bioc/R/library/RcppArmadillo/include/armadillo:54:0,
from /home/biocbuild/bbs-3.8-bioc/R/library/RcppArmadillo/include/RcppArmadilloForward.h:46,
from /home/biocbuild/bbs-3.8-bioc/R/library/RcppArmadillo/include/RcppArmadillo.h:31,
from hdfFlow.h:5,
from readFrame.cpp:1:
/home/biocbuild/bbs-3.8-bioc/R/library/RcppArmadillo/include/armadillo_bits/compiler_setup.hpp:514:108: note: #pragma message: NOTE: suggest to enable C++14 mode for faster code; add -std=c++14 to compiler flags
#pragma message ("NOTE: suggest to enable C++14 mode for faster code; add -std=c++14 to compiler flags")
^
mkdir -p "/home/biocbuild/bbs-3.8-bioc/R/library/ncdfFlow/lib"
ar rs "/home/biocbuild/bbs-3.8-bioc/R/library/ncdfFlow/lib/libncdfFlow.a" RcppExports.o bitOps.o hdfFlow.o init.o readFrame.o
ar: creating /home/biocbuild/bbs-3.8-bioc/R/library/ncdfFlow/lib/libncdfFlow.a
g++ -shared -L/home/biocbuild/bbs-3.8-bioc/R/lib -L/usr/local/lib -o ncdfFlow.so RcppExports.o bitOps.o hdfFlow.o init.o readFrame.o /home/biocbuild/bbs-3.8-bioc/R/library/Rhdf5lib/lib/libhdf5.a /home/biocbuild/bbs-3.8-bioc/R/library/Rhdf5lib/lib/libsz.a -lz -L/home/biocbuild/bbs-3.8-bioc/R/lib -lR
installing to /home/biocbuild/bbs-3.8-bioc/R/library/ncdfFlow/libs
** R
** inst
** byte-compile and prepare package for lazy loading
** help
*** installing help indices
** building package indices
** installing vignettes
** testing if installed package can be loaded
* DONE (ncdfFlow)
ncdfFlow.Rcheck/tests/testthat.Rout
R version 3.5.3 (2019-03-11) -- "Great Truth"
Copyright (C) 2019 The R Foundation for Statistical Computing
Platform: x86_64-pc-linux-gnu (64-bit)
R is free software and comes with ABSOLUTELY NO WARRANTY.
You are welcome to redistribute it under certain conditions.
Type 'license()' or 'licence()' for distribution details.
R is a collaborative project with many contributors.
Type 'contributors()' for more information and
'citation()' on how to cite R or R packages in publications.
Type 'demo()' for some demos, 'help()' for on-line help, or
'help.start()' for an HTML browser interface to help.
Type 'q()' to quit R.
> library(testthat)
> library(ncdfFlow)
Loading required package: flowCore
Loading required package: RcppArmadillo
Loading required package: BH
>
> test_check("ncdfFlow")
══ testthat results ═══════════════════════════════════════════════════════════
OK: 398 SKIPPED: 0 FAILED: 0
Warning message:
closing unused connection 3 (/tmp/RtmpVL54LF/file56c630d9fbb9)
> #devtools::test("˜/rglab/workspace/ncdfFlow")
> #test_file("˜/rglab/workspace/ncdfFlow/inst/tests/test_ncdfFlowSet_accessor.R")
> #test_file("˜/rglab/workspace/ncdfFlow/inst/tests/test_ncdfFlowList.R")
>
>
> proc.time()
user system elapsed
10.476 0.204 10.732
ncdfFlow.Rcheck/ncdfFlow-Ex.timings
| name | user | system | elapsed | |
| Indices | 1.168 | 0.024 | 1.313 | |
| as.flowSet | 1.016 | 0.028 | 1.047 | |
| clone.ncdfFlowSet | 0.384 | 0.000 | 0.402 | |
| extractFlowFrame | 0.668 | 0.024 | 0.692 | |
| ncdfFlowList-class | 0.908 | 0.012 | 0.919 | |
| ncdfFlowSet-constructor | 0.848 | 0.028 | 0.883 | |
| ncfsApply-ncdfFlowSet-method | 0.796 | 0.032 | 0.829 | |
| rbind2-method | 1.104 | 0.036 | 1.144 | |
| read.ncdfFlowSet | 0.384 | 0.004 | 0.388 | |
| replacement-method-for-ncdfFlowSet | 0.752 | 0.024 | 0.780 | |
| save_ncfs | 0 | 0 | 0 | |
| subset-methods | 0.784 | 0.024 | 0.813 | |
| unlink-ncdfFlowSet-method | 0.736 | 0.016 | 0.753 | |