| Back to Multiple platform build/check report for BioC 3.8 | 
  | 
This page was generated on 2019-04-16 11:47:45 -0400 (Tue, 16 Apr 2019).
| Package 1027/1649 | Hostname | OS / Arch | INSTALL | BUILD | CHECK | BUILD BIN | ||||||
| multtest 2.38.0 Katherine S. Pollard 
  | malbec1 | Linux (Ubuntu 16.04.6 LTS) / x86_64 | OK | [ OK ] | WARNINGS | |||||||
| merida1 | OS X 10.11.6 El Capitan / x86_64 | OK | OK | WARNINGS | OK | 
| Package: multtest | 
| Version: 2.38.0 | 
| Command: /home/biocbuild/bbs-3.8-bioc/R/bin/R CMD build --keep-empty-dirs --no-resave-data multtest | 
| StartedAt: 2019-04-15 18:37:18 -0400 (Mon, 15 Apr 2019) | 
| EndedAt: 2019-04-15 18:37:21 -0400 (Mon, 15 Apr 2019) | 
| EllapsedTime: 3.2 seconds | 
| RetCode: 0 | 
| Status: OK | 
| PackageFile: multtest_2.38.0.tar.gz | 
| PackageFileSize: 1.234 MiB | 
############################################################################## ############################################################################## ### ### Running command: ### ### /home/biocbuild/bbs-3.8-bioc/R/bin/R CMD build --keep-empty-dirs --no-resave-data multtest ### ############################################################################## ############################################################################## * checking for file ‘multtest/DESCRIPTION’ ... OK * preparing ‘multtest’: * checking DESCRIPTION meta-information ... OK * cleaning src * checking for LF line-endings in source and make files and shell scripts * checking for empty or unneeded directories * looking to see if a ‘data/datalist’ file should be added * building ‘multtest_2.38.0.tar.gz’