| Back to Multiple platform build/check report for BioC 3.8 | 
  | 
This page was generated on 2019-04-13 11:29:35 -0400 (Sat, 13 Apr 2019).
| Package 1022/1649 | Hostname | OS / Arch | INSTALL | BUILD | CHECK | BUILD BIN | ||||||
| multiHiCcompare 1.0.0 John Stansfield 
  | malbec1 | Linux (Ubuntu 16.04.6 LTS) / x86_64 | OK | OK | OK | |||||||
| tokay1 | Windows Server 2012 R2 Standard / x64 | OK | OK | OK | [ OK ] | |||||||
| merida1 | OS X 10.11.6 El Capitan / x86_64 | OK | OK | OK | OK | 
| Package: multiHiCcompare | 
| Version: 1.0.0 | 
| Command: rm -rf multiHiCcompare.buildbin-libdir && mkdir multiHiCcompare.buildbin-libdir && C:\Users\biocbuild\bbs-3.8-bioc\R\bin\R.exe CMD INSTALL --merge-multiarch --build --library=multiHiCcompare.buildbin-libdir multiHiCcompare_1.0.0.tar.gz | 
| StartedAt: 2019-04-13 07:41:13 -0400 (Sat, 13 Apr 2019) | 
| EndedAt: 2019-04-13 07:41:49 -0400 (Sat, 13 Apr 2019) | 
| EllapsedTime: 36.3 seconds | 
| RetCode: 0 | 
| Status: OK | 
| PackageFile: multiHiCcompare_1.0.0.zip | 
| PackageFileSize: 3.949 MiB | 
##############################################################################
##############################################################################
###
### Running command:
###
###   rm -rf multiHiCcompare.buildbin-libdir && mkdir multiHiCcompare.buildbin-libdir && C:\Users\biocbuild\bbs-3.8-bioc\R\bin\R.exe CMD INSTALL --merge-multiarch --build --library=multiHiCcompare.buildbin-libdir multiHiCcompare_1.0.0.tar.gz
###
##############################################################################
##############################################################################
install for i386
* installing *source* package 'multiHiCcompare' ...
** R
** data
*** moving datasets to lazyload DB
** inst
** byte-compile and prepare package for lazy loading
** help
*** installing help indices
  converting help for package 'multiHiCcompare'
    finding HTML links ... done
    HCT116_r1                               html  
    HCT116_r2                               html  
    HCT116_r3                               html  
    HCT116_r4                               html  
    HCT116_r5                               html  
    HCT116_r6                               html  
    Hicexp-class                            html  
    MD_composite                            html  
    MD_hicexp                               html  
    cyclic_loess                            html  
    fastlo                                  html  
    hg19_cyto                               html  
    hg38_cyto                               html  
    hic_exactTest                           html  
    hic_filter                              html  
    hic_glm                                 html  
    hic_scale                               html  
    hic_table                               html  
    hicexp2                                 html  
    hicexp_diff                             html  
    make_hicexp                             html  
    manhattan_hicexp                        html  
    meta                                    html  
    normalized                              html  
    perm_test                               html  
    plot_counts                             html  
    plot_pvals                              html  
    pval_heatmap                            html  
    resolution                              html  
    results                                 html  
    show                                    html  
    smartApply                              html  
    topDirs                                 html  
** building package indices
** installing vignettes
** testing if installed package can be loaded
In R CMD INSTALL
install for x64
* installing *source* package 'multiHiCcompare' ...
** testing if installed package can be loaded
* MD5 sums
packaged installation of 'multiHiCcompare' as multiHiCcompare_1.0.0.zip
* DONE (multiHiCcompare)
In R CMD INSTALL
In R CMD INSTALL