| Back to Multiple platform build/check report for BioC 3.8 | 
  | 
This page was generated on 2019-04-13 11:23:03 -0400 (Sat, 13 Apr 2019).
| Package 1009/1649 | Hostname | OS / Arch | INSTALL | BUILD | CHECK | BUILD BIN | ||||||
| msmsTests 1.20.1 Josep Gregori i Font 
  | malbec1 | Linux (Ubuntu 16.04.6 LTS) / x86_64 | OK | OK | OK | |||||||
| tokay1 | Windows Server 2012 R2 Standard / x64 | OK | OK | OK | [ OK ] | |||||||
| merida1 | OS X 10.11.6 El Capitan / x86_64 | OK | OK | OK | OK | 
| Package: msmsTests | 
| Version: 1.20.1 | 
| Command: rm -rf msmsTests.buildbin-libdir && mkdir msmsTests.buildbin-libdir && C:\Users\biocbuild\bbs-3.8-bioc\R\bin\R.exe CMD INSTALL --merge-multiarch --build --library=msmsTests.buildbin-libdir msmsTests_1.20.1.tar.gz | 
| StartedAt: 2019-04-13 07:40:44 -0400 (Sat, 13 Apr 2019) | 
| EndedAt: 2019-04-13 07:41:03 -0400 (Sat, 13 Apr 2019) | 
| EllapsedTime: 19.3 seconds | 
| RetCode: 0 | 
| Status: OK | 
| PackageFile: msmsTests_1.20.1.zip | 
| PackageFileSize: 335.9 KiB | 
##############################################################################
##############################################################################
###
### Running command:
###
###   rm -rf msmsTests.buildbin-libdir && mkdir msmsTests.buildbin-libdir && C:\Users\biocbuild\bbs-3.8-bioc\R\bin\R.exe CMD INSTALL --merge-multiarch --build --library=msmsTests.buildbin-libdir msmsTests_1.20.1.tar.gz
###
##############################################################################
##############################################################################
install for i386
* installing *source* package 'msmsTests' ...
** R
** data
** inst
** byte-compile and prepare package for lazy loading
** help
*** installing help indices
  converting help for package 'msmsTests'
    finding HTML links ... done
    msms.edgeR                              html  
    finding level-2 HTML links ... done
    msms.glm.pois                           html  
    msms.glm.qlll                           html  
    msms.spk                                html  
    msmsTests-package                       html  
    pval.by.fc                              html  
    res.volcanoplot                         html  
    test.results                            html  
** building package indices
** installing vignettes
** testing if installed package can be loaded
In R CMD INSTALL
install for x64
* installing *source* package 'msmsTests' ...
** testing if installed package can be loaded
* MD5 sums
packaged installation of 'msmsTests' as msmsTests_1.20.1.zip
* DONE (msmsTests)
In R CMD INSTALL
In R CMD INSTALL