| Back to Multiple platform build/check report for BioC 3.8 | 
 | 
This page was generated on 2019-04-16 11:51:34 -0400 (Tue, 16 Apr 2019).
| Package 993/1649 | Hostname | OS / Arch | INSTALL | BUILD | CHECK | BUILD BIN | ||||||
| motifbreakR 1.12.0 Simon Gert Coetzee 
 | malbec1 | Linux (Ubuntu 16.04.6 LTS) / x86_64 | OK | [ OK ] | OK |  | ||||||
| merida1 | OS X 10.11.6 El Capitan / x86_64 | OK | OK | OK | OK |  | 
| Package: motifbreakR | 
| Version: 1.12.0 | 
| Command: /home/biocbuild/bbs-3.8-bioc/R/bin/R CMD build --keep-empty-dirs --no-resave-data motifbreakR | 
| StartedAt: 2019-04-15 20:15:27 -0400 (Mon, 15 Apr 2019) | 
| EndedAt: 2019-04-15 20:20:19 -0400 (Mon, 15 Apr 2019) | 
| EllapsedTime: 291.8 seconds | 
| RetCode: 0 | 
| Status: OK | 
| PackageFile: motifbreakR_1.12.0.tar.gz | 
| PackageFileSize: 1.791 MiB | 
############################################################################## ############################################################################## ### ### Running command: ### ### /home/biocbuild/bbs-3.8-bioc/R/bin/R CMD build --keep-empty-dirs --no-resave-data motifbreakR ### ############################################################################## ############################################################################## * checking for file ‘motifbreakR/DESCRIPTION’ ... OK * preparing ‘motifbreakR’: * checking DESCRIPTION meta-information ... OK * installing the package to build vignettes * creating vignettes ... OK * checking for LF line-endings in source and make files and shell scripts * checking for empty or unneeded directories * looking to see if a ‘data/datalist’ file should be added * building ‘motifbreakR_1.12.0.tar.gz’