Back to Multiple platform build/check report for BioC 3.8 |
|
This page was generated on 2019-04-16 11:59:04 -0400 (Tue, 16 Apr 2019).
Package 967/1649 | Hostname | OS / Arch | INSTALL | BUILD | CHECK | BUILD BIN | ||||||
miRcomp 1.12.0 Matthew N. McCall
| malbec1 | Linux (Ubuntu 16.04.6 LTS) / x86_64 | OK | OK | WARNINGS | ![]() | ||||||
merida1 | OS X 10.11.6 El Capitan / x86_64 | OK | OK | WARNINGS | [ OK ] | ![]() |
Package: miRcomp |
Version: 1.12.0 |
Command: rm -rf miRcomp.buildbin-libdir && mkdir miRcomp.buildbin-libdir && /Users/biocbuild/BBS/utils/build-universal.sh miRcomp_1.12.0.tar.gz /Library/Frameworks/R.framework/Versions/Current/Resources/bin/R miRcomp.buildbin-libdir |
StartedAt: 2019-04-16 04:23:23 -0400 (Tue, 16 Apr 2019) |
EndedAt: 2019-04-16 04:24:08 -0400 (Tue, 16 Apr 2019) |
EllapsedTime: 44.4 seconds |
RetCode: 0 |
Status: OK |
PackageFile: miRcomp_1.12.0.tgz |
PackageFileSize: 4.757 MiB |
############################################################################## ############################################################################## ### ### Running command: ### ### rm -rf miRcomp.buildbin-libdir && mkdir miRcomp.buildbin-libdir && /Users/biocbuild/BBS/utils/build-universal.sh miRcomp_1.12.0.tar.gz /Library/Frameworks/R.framework/Versions/Current/Resources/bin/R miRcomp.buildbin-libdir ### ############################################################################## ############################################################################## >>>>>>> >>>>>>> INSTALLATION WITH 'R CMD INSTALL --preclean --no-multiarch --library=miRcomp.buildbin-libdir miRcomp_1.12.0.tar.gz' >>>>>>> * installing *source* package ‘miRcomp’ ... ** R ** data ** inst ** byte-compile and prepare package for lazy loading ** help *** installing help indices ** building package indices ** installing vignettes ** testing if installed package can be loaded * DONE (miRcomp)