| Back to Multiple platform build/check report for BioC 3.8 |
|
This page was generated on 2019-04-16 11:53:04 -0400 (Tue, 16 Apr 2019).
| Package 945/1649 | Hostname | OS / Arch | INSTALL | BUILD | CHECK | BUILD BIN | ||||||
| methyvim 1.4.0 Nima Hejazi
| malbec1 | Linux (Ubuntu 16.04.6 LTS) / x86_64 | OK | [ OK ] | OK | |||||||
| merida1 | OS X 10.11.6 El Capitan / x86_64 | OK | OK | OK | OK |
| Package: methyvim |
| Version: 1.4.0 |
| Command: /home/biocbuild/bbs-3.8-bioc/R/bin/R CMD build --keep-empty-dirs --no-resave-data methyvim |
| StartedAt: 2019-04-15 21:29:37 -0400 (Mon, 15 Apr 2019) |
| EndedAt: 2019-04-15 21:33:09 -0400 (Mon, 15 Apr 2019) |
| EllapsedTime: 212.1 seconds |
| RetCode: 0 |
| Status: OK |
| PackageFile: methyvim_1.4.0.tar.gz |
| PackageFileSize: 417.2 KiB |
##############################################################################
##############################################################################
###
### Running command:
###
### /home/biocbuild/bbs-3.8-bioc/R/bin/R CMD build --keep-empty-dirs --no-resave-data methyvim
###
##############################################################################
##############################################################################
* checking for file ‘methyvim/DESCRIPTION’ ... OK
* preparing ‘methyvim’:
* checking DESCRIPTION meta-information ... OK
* installing the package to build vignettes
* creating vignettes ... OK
Warning: ‘inst/doc’ files
‘using_methyvim.Rmd’, ‘using_methyvim.html’, ‘using_methyvim.R’
ignored as vignettes have been rebuilt.
Run R CMD build with --no-build-vignettes to prevent rebuilding.
* checking for LF line-endings in source and make files and shell scripts
* checking for empty or unneeded directories
* building ‘methyvim_1.4.0.tar.gz’