| Back to Multiple platform build/check report for BioC 3.8 |
|
This page was generated on 2019-04-16 12:00:36 -0400 (Tue, 16 Apr 2019).
| Package 938/1649 | Hostname | OS / Arch | INSTALL | BUILD | CHECK | BUILD BIN | ||||||
| methylInheritance 1.6.1 Astrid Deschenes
| malbec1 | Linux (Ubuntu 16.04.6 LTS) / x86_64 | OK | OK | OK | |||||||
| merida1 | OS X 10.11.6 El Capitan / x86_64 | OK | OK | [ OK ] | OK |
| Package: methylInheritance |
| Version: 1.6.1 |
| Command: /Library/Frameworks/R.framework/Versions/Current/Resources/bin/R CMD check --install=check:methylInheritance.install-out.txt --library=/Library/Frameworks/R.framework/Versions/Current/Resources/library --no-vignettes --timings methylInheritance_1.6.1.tar.gz |
| StartedAt: 2019-04-16 01:12:19 -0400 (Tue, 16 Apr 2019) |
| EndedAt: 2019-04-16 01:22:59 -0400 (Tue, 16 Apr 2019) |
| EllapsedTime: 640.0 seconds |
| RetCode: 0 |
| Status: OK |
| CheckDir: methylInheritance.Rcheck |
| Warnings: 0 |
##############################################################################
##############################################################################
###
### Running command:
###
### /Library/Frameworks/R.framework/Versions/Current/Resources/bin/R CMD check --install=check:methylInheritance.install-out.txt --library=/Library/Frameworks/R.framework/Versions/Current/Resources/library --no-vignettes --timings methylInheritance_1.6.1.tar.gz
###
##############################################################################
##############################################################################
* using log directory ‘/Users/biocbuild/bbs-3.8-bioc/meat/methylInheritance.Rcheck’
* using R version 3.5.3 (2019-03-11)
* using platform: x86_64-apple-darwin15.6.0 (64-bit)
* using session charset: UTF-8
* using option ‘--no-vignettes’
* checking for file ‘methylInheritance/DESCRIPTION’ ... OK
* this is package ‘methylInheritance’ version ‘1.6.1’
* package encoding: UTF-8
* checking package namespace information ... OK
* checking package dependencies ... OK
* checking if this is a source package ... OK
* checking if there is a namespace ... OK
* checking for hidden files and directories ... OK
* checking for portable file names ... OK
* checking for sufficient/correct file permissions ... OK
* checking whether package ‘methylInheritance’ can be installed ... OK
* checking installed package size ... OK
* checking package directory ... OK
* checking ‘build’ directory ... OK
* checking DESCRIPTION meta-information ... OK
* checking top-level files ... OK
* checking for left-over files ... OK
* checking index information ... OK
* checking package subdirectories ... OK
* checking R files for non-ASCII characters ... OK
* checking R files for syntax errors ... OK
* checking whether the package can be loaded ... OK
* checking whether the package can be loaded with stated dependencies ... OK
* checking whether the package can be unloaded cleanly ... OK
* checking whether the namespace can be loaded with stated dependencies ... OK
* checking whether the namespace can be unloaded cleanly ... OK
* checking dependencies in R code ... OK
* checking S3 generic/method consistency ... OK
* checking replacement functions ... OK
* checking foreign function calls ... OK
* checking R code for possible problems ... OK
* checking Rd files ... OK
* checking Rd metadata ... OK
* checking Rd cross-references ... OK
* checking for missing documentation entries ... OK
* checking for code/documentation mismatches ... OK
* checking Rd \usage sections ... OK
* checking Rd contents ... OK
* checking for unstated dependencies in examples ... OK
* checking contents of ‘data’ directory ... OK
* checking data for non-ASCII characters ... OK
* checking data for ASCII and uncompressed saves ... OK
* checking files in ‘vignettes’ ... OK
* checking examples ... OK
Examples with CPU or elapsed time > 5s
user system elapsed
runPermutation 234.078 79.470 181.671
samplesForTransgenerationalAnalysis 124.894 89.684 54.080
runObservation 85.749 5.014 82.588
runOnePermutationOnAllGenerations 43.666 25.091 20.293
demoForTransgenerationalAnalysis 27.011 14.091 8.952
* checking for unstated dependencies in ‘tests’ ... OK
* checking tests ...
Running ‘runTests.R’
OK
* checking for unstated dependencies in vignettes ... OK
* checking package vignettes in ‘inst/doc’ ... OK
* checking running R code from vignettes ... SKIPPED
* checking re-building of vignette outputs ... SKIPPED
* checking PDF version of manual ... OK
* DONE
Status: OK
methylInheritance.Rcheck/00install.out
############################################################################## ############################################################################## ### ### Running command: ### ### /Library/Frameworks/R.framework/Versions/Current/Resources/bin/R CMD INSTALL methylInheritance ### ############################################################################## ############################################################################## * installing to library ‘/Library/Frameworks/R.framework/Versions/3.5/Resources/library’ * installing *source* package ‘methylInheritance’ ... ** R ** data ** inst ** byte-compile and prepare package for lazy loading ** help *** installing help indices ** building package indices ** installing vignettes ** testing if installed package can be loaded * DONE (methylInheritance)
methylInheritance.Rcheck/tests/runTests.Rout
R version 3.5.3 (2019-03-11) -- "Great Truth"
Copyright (C) 2019 The R Foundation for Statistical Computing
Platform: x86_64-apple-darwin15.6.0 (64-bit)
R is free software and comes with ABSOLUTELY NO WARRANTY.
You are welcome to redistribute it under certain conditions.
Type 'license()' or 'licence()' for distribution details.
R is a collaborative project with many contributors.
Type 'contributors()' for more information and
'citation()' on how to cite R or R packages in publications.
Type 'demo()' for some demos, 'help()' for on-line help, or
'help.start()' for an HTML browser interface to help.
Type 'q()' to quit R.
> ## Run all tests presnt in the package
> BiocGenerics:::testPackage("methylInheritance")
Loading required package: stats4
Loading required package: BiocGenerics
Loading required package: parallel
Attaching package: 'BiocGenerics'
The following objects are masked from 'package:parallel':
clusterApply, clusterApplyLB, clusterCall, clusterEvalQ,
clusterExport, clusterMap, parApply, parCapply, parLapply,
parLapplyLB, parRapply, parSapply, parSapplyLB
The following objects are masked from 'package:stats':
IQR, mad, sd, var, xtabs
The following objects are masked from 'package:base':
Filter, Find, Map, Position, Reduce, anyDuplicated, append,
as.data.frame, basename, cbind, colMeans, colSums, colnames,
dirname, do.call, duplicated, eval, evalq, get, grep, grepl,
intersect, is.unsorted, lapply, lengths, mapply, match, mget,
order, paste, pmax, pmax.int, pmin, pmin.int, rank, rbind,
rowMeans, rowSums, rownames, sapply, setdiff, sort, table, tapply,
union, unique, unsplit, which, which.max, which.min
Loading required package: S4Vectors
Attaching package: 'S4Vectors'
The following object is masked from 'package:base':
expand.grid
Loading required package: IRanges
Loading required package: GenomeInfoDb
Permutation Analysis
Number of Generations: 3
Number of Permutations: 20
Observation Results:
SOURCE ELEMENT ANALYSIS TYPE RESULT
1 OBSERVATION SITES i2 HYPER1 4
2 OBSERVATION SITES i2 HYPER2 1
3 OBSERVATION SITES i2 HYPO1 2
4 OBSERVATION SITES i2 HYPO2 2
5 OBSERVATION SITES iAll HYPER 0
6 OBSERVATION SITES iAll HYPO 0
7 OBSERVATION TILES i2 HYPER1 1000
8 OBSERVATION TILES i2 HYPER2 0
9 OBSERVATION TILES i2 HYPO1 0
10 OBSERVATION TILES i2 HYPO2 0
11 OBSERVATION TILES iAll HYPER 0
12 OBSERVATION TILES iAll HYPO 0
RUNIT TEST PROTOCOL -- Tue Apr 16 01:22:53 2019
***********************************************
Number of test functions: 72
Number of errors: 0
Number of failures: 0
1 Test Suite :
methylInheritance RUnit Tests - 72 test functions, 0 errors, 0 failures
Number of test functions: 72
Number of errors: 0
Number of failures: 0
Warning messages:
1: In max(i) : no non-missing arguments to max; returning -Inf
2: In max(i) : no non-missing arguments to max; returning -Inf
>
> proc.time()
user system elapsed
89.887 60.455 44.789
methylInheritance.Rcheck/methylInheritance-Ex.timings
| name | user | system | elapsed | |
| calculateSignificantLevel | 0.270 | 0.036 | 0.310 | |
| createDataStructure | 0.064 | 0.008 | 0.074 | |
| createOutputDir | 0.001 | 0.000 | 0.001 | |
| demoForTransgenerationalAnalysis | 27.011 | 14.091 | 8.952 | |
| extractInfo | 0.163 | 0.002 | 0.167 | |
| formatInputMethylData | 0.327 | 0.047 | 0.377 | |
| getGRangesFromMethylDiff | 0.085 | 0.003 | 0.090 | |
| interGeneration | 1.608 | 0.037 | 1.665 | |
| isInterGenerationResults | 0.001 | 0.000 | 0.001 | |
| loadAllRDSResults | 0.153 | 0.004 | 0.162 | |
| loadConvergenceData | 0.230 | 0.011 | 0.242 | |
| mergePermutationAndObservation | 0.005 | 0.001 | 0.006 | |
| methylInheritanceAllResults | 0.006 | 0.008 | 0.014 | |
| methylInheritanceResults | 0.031 | 0.009 | 0.039 | |
| plotConvergenceGraph | 0.633 | 0.041 | 0.676 | |
| plotGraph | 0.589 | 0.008 | 0.602 | |
| readInterGenerationResults | 0.039 | 0.002 | 0.042 | |
| runObservation | 85.749 | 5.014 | 82.588 | |
| runOnePermutationOnAllGenerations | 43.666 | 25.091 | 20.293 | |
| runPermutation | 234.078 | 79.470 | 181.671 | |
| samplesForTransgenerationalAnalysis | 124.894 | 89.684 | 54.080 | |
| saveInterGenerationResults | 1.022 | 0.004 | 1.039 | |
| validateExtractInfo | 0.002 | 0.001 | 0.003 | |
| validateLoadConvergenceData | 0.001 | 0.000 | 0.001 | |
| validateMergePermutationAndObservation | 0.001 | 0.000 | 0.001 | |
| validateRunObservation | 0.134 | 0.017 | 0.152 | |
| validateRunPermutation | 0.133 | 0.014 | 0.149 | |