| Back to Multiple platform build/check report for BioC 3.8 | 
  | 
This page was generated on 2019-04-16 11:55:10 -0400 (Tue, 16 Apr 2019).
| Package 934/1649 | Hostname | OS / Arch | INSTALL | BUILD | CHECK | BUILD BIN | ||||||
| methVisual 1.34.0 Arie Zackay 
  | malbec1 | Linux (Ubuntu 16.04.6 LTS) / x86_64 | OK | OK | WARNINGS | |||||||
| merida1 | OS X 10.11.6 El Capitan / x86_64 | OK | OK | WARNINGS | [ OK ] | 
| Package: methVisual | 
| Version: 1.34.0 | 
| Command: rm -rf methVisual.buildbin-libdir && mkdir methVisual.buildbin-libdir && /Users/biocbuild/BBS/utils/build-universal.sh methVisual_1.34.0.tar.gz /Library/Frameworks/R.framework/Versions/Current/Resources/bin/R methVisual.buildbin-libdir | 
| StartedAt: 2019-04-16 04:21:49 -0400 (Tue, 16 Apr 2019) | 
| EndedAt: 2019-04-16 04:22:32 -0400 (Tue, 16 Apr 2019) | 
| EllapsedTime: 43.5 seconds | 
| RetCode: 0 | 
| Status: OK | 
| PackageFile: methVisual_1.34.0.tgz | 
| PackageFileSize: 308.7 KiB | 
############################################################################## ############################################################################## ### ### Running command: ### ### rm -rf methVisual.buildbin-libdir && mkdir methVisual.buildbin-libdir && /Users/biocbuild/BBS/utils/build-universal.sh methVisual_1.34.0.tar.gz /Library/Frameworks/R.framework/Versions/Current/Resources/bin/R methVisual.buildbin-libdir ### ############################################################################## ############################################################################## >>>>>>> >>>>>>> INSTALLATION WITH 'R CMD INSTALL --preclean --no-multiarch --library=methVisual.buildbin-libdir methVisual_1.34.0.tar.gz' >>>>>>> * installing *source* package ‘methVisual’ ... ** R ** data ** inst ** byte-compile and prepare package for lazy loading Note: possible error in 'windows(n, lengthData, ': unused argument (rescale = "fixed") ** help *** installing help indices ** building package indices ** installing vignettes ** testing if installed package can be loaded * DONE (methVisual)