| Back to Multiple platform build/check report for BioC 3.8 | 
 | 
This page was generated on 2019-04-16 11:56:51 -0400 (Tue, 16 Apr 2019).
| Package 922/1649 | Hostname | OS / Arch | INSTALL | BUILD | CHECK | BUILD BIN | ||||||
| metagenomeSeq 1.24.1 Joseph N. Paulson 
 | malbec1 | Linux (Ubuntu 16.04.6 LTS) / x86_64 | OK | OK | OK |  | ||||||
| merida1 | OS X 10.11.6 El Capitan / x86_64 | OK | OK | OK | [ OK ] |  | 
| Package: metagenomeSeq | 
| Version: 1.24.1 | 
| Command: rm -rf metagenomeSeq.buildbin-libdir && mkdir metagenomeSeq.buildbin-libdir && /Users/biocbuild/BBS/utils/build-universal.sh metagenomeSeq_1.24.1.tar.gz /Library/Frameworks/R.framework/Versions/Current/Resources/bin/R metagenomeSeq.buildbin-libdir | 
| StartedAt: 2019-04-16 04:21:16 -0400 (Tue, 16 Apr 2019) | 
| EndedAt: 2019-04-16 04:22:01 -0400 (Tue, 16 Apr 2019) | 
| EllapsedTime: 44.6 seconds | 
| RetCode: 0 | 
| Status: OK | 
| PackageFile: metagenomeSeq_1.24.1.tgz | 
| PackageFileSize: 2.035 MiB | 
############################################################################## ############################################################################## ### ### Running command: ### ### rm -rf metagenomeSeq.buildbin-libdir && mkdir metagenomeSeq.buildbin-libdir && /Users/biocbuild/BBS/utils/build-universal.sh metagenomeSeq_1.24.1.tar.gz /Library/Frameworks/R.framework/Versions/Current/Resources/bin/R metagenomeSeq.buildbin-libdir ### ############################################################################## ############################################################################## >>>>>>> >>>>>>> INSTALLATION WITH 'R CMD INSTALL --preclean --no-multiarch --library=metagenomeSeq.buildbin-libdir metagenomeSeq_1.24.1.tar.gz' >>>>>>> * installing *source* package ‘metagenomeSeq’ ... ** R ** data ** inst ** byte-compile and prepare package for lazy loading ** help *** installing help indices ** building package indices ** installing vignettes ** testing if installed package can be loaded * DONE (metagenomeSeq)