| Back to Multiple platform build/check report for BioC 3.8 |
|
This page was generated on 2019-04-16 11:50:18 -0400 (Tue, 16 Apr 2019).
| Package 926/1649 | Hostname | OS / Arch | INSTALL | BUILD | CHECK | BUILD BIN | ||||||
| metaSeq 1.22.1 Koki Tsuyuzaki
| malbec1 | Linux (Ubuntu 16.04.6 LTS) / x86_64 | OK | [ OK ] | OK | |||||||
| merida1 | OS X 10.11.6 El Capitan / x86_64 | OK | OK | OK | OK |
| Package: metaSeq |
| Version: 1.22.1 |
| Command: /home/biocbuild/bbs-3.8-bioc/R/bin/R CMD build --keep-empty-dirs --no-resave-data metaSeq |
| StartedAt: 2019-04-15 19:38:09 -0400 (Mon, 15 Apr 2019) |
| EndedAt: 2019-04-15 19:38:22 -0400 (Mon, 15 Apr 2019) |
| EllapsedTime: 13.7 seconds |
| RetCode: 0 |
| Status: OK |
| PackageFile: metaSeq_1.22.1.tar.gz |
| PackageFileSize: 6.1 MiB |
##############################################################################
##############################################################################
###
### Running command:
###
### /home/biocbuild/bbs-3.8-bioc/R/bin/R CMD build --keep-empty-dirs --no-resave-data metaSeq
###
##############################################################################
##############################################################################
* checking for file ‘metaSeq/DESCRIPTION’ ... OK
* preparing ‘metaSeq’:
* checking DESCRIPTION meta-information ... OK
* installing the package to build vignettes
* creating vignettes ... OK
Warning: ‘inst/doc’ files
‘metaSeq.Rnw’, ‘metaSeq.pdf’, ‘metaSeq.R’
ignored as vignettes have been rebuilt.
Run R CMD build with --no-build-vignettes to prevent rebuilding.
* checking for LF line-endings in source and make files and shell scripts
* checking for empty or unneeded directories
* looking to see if a ‘data/datalist’ file should be added
* building ‘metaSeq_1.22.1.tar.gz’