| Back to Multiple platform build/check report for BioC 3.8 | 
 | 
This page was generated on 2019-04-16 11:54:07 -0400 (Tue, 16 Apr 2019).
| Package 877/1649 | Hostname | OS / Arch | INSTALL | BUILD | CHECK | BUILD BIN | ||||||
| marray 1.60.0 Yee Hwa (Jean) Yang 
 | malbec1 | Linux (Ubuntu 16.04.6 LTS) / x86_64 | OK | OK | OK |  | ||||||
| merida1 | OS X 10.11.6 El Capitan / x86_64 | OK | [ OK ] | OK | OK |  | 
| Package: marray | 
| Version: 1.60.0 | 
| Command: /Library/Frameworks/R.framework/Versions/Current/Resources/bin/R CMD build --keep-empty-dirs --no-resave-data marray | 
| StartedAt: 2019-04-15 18:55:26 -0400 (Mon, 15 Apr 2019) | 
| EndedAt: 2019-04-15 18:56:06 -0400 (Mon, 15 Apr 2019) | 
| EllapsedTime: 39.4 seconds | 
| RetCode: 0 | 
| Status: OK | 
| PackageFile: marray_1.60.0.tar.gz | 
| PackageFileSize: 4.005 MiB | 
##############################################################################
##############################################################################
###
### Running command:
###
###   /Library/Frameworks/R.framework/Versions/Current/Resources/bin/R CMD build --keep-empty-dirs --no-resave-data marray
###
##############################################################################
##############################################################################
* checking for file ‘marray/DESCRIPTION’ ... OK
* preparing ‘marray’:
* checking DESCRIPTION meta-information ... OK
* installing the package to build vignettes
* creating vignettes ... OK
Warning: ‘inst/doc’ files
    ‘marrayClasses.R’, ‘marrayClassesShort.R’, ‘marrayClassesShort.R’,  ‘marrayInput.R’, ‘marrayNorm.R’, ‘marrayPlots.R’
  ignored as vignettes have been rebuilt.
  Run R CMD build with --no-build-vignettes to prevent rebuilding.
* checking for LF line-endings in source and make files and shell scripts
* checking for empty or unneeded directories
* looking to see if a ‘data/datalist’ file should be added
* building ‘marray_1.60.0.tar.gz’