| Back to Multiple platform build/check report for BioC 3.8 | 
 | 
This page was generated on 2019-04-16 11:54:14 -0400 (Tue, 16 Apr 2019).
| Package 864/1649 | Hostname | OS / Arch | INSTALL | BUILD | CHECK | BUILD BIN | ||||||
| made4 1.56.0 Aedin Culhane 
 | malbec1 | Linux (Ubuntu 16.04.6 LTS) / x86_64 | OK | OK | WARNINGS |  | ||||||
| merida1 | OS X 10.11.6 El Capitan / x86_64 | OK | OK | WARNINGS | [ OK ] |  | 
| Package: made4 | 
| Version: 1.56.0 | 
| Command: rm -rf made4.buildbin-libdir && mkdir made4.buildbin-libdir && /Users/biocbuild/BBS/utils/build-universal.sh made4_1.56.0.tar.gz /Library/Frameworks/R.framework/Versions/Current/Resources/bin/R made4.buildbin-libdir | 
| StartedAt: 2019-04-16 04:18:37 -0400 (Tue, 16 Apr 2019) | 
| EndedAt: 2019-04-16 04:19:21 -0400 (Tue, 16 Apr 2019) | 
| EllapsedTime: 44.5 seconds | 
| RetCode: 0 | 
| Status: OK | 
| PackageFile: made4_1.56.0.tgz | 
| PackageFileSize: 673.4 KiB | 
############################################################################## ############################################################################## ### ### Running command: ### ### rm -rf made4.buildbin-libdir && mkdir made4.buildbin-libdir && /Users/biocbuild/BBS/utils/build-universal.sh made4_1.56.0.tar.gz /Library/Frameworks/R.framework/Versions/Current/Resources/bin/R made4.buildbin-libdir ### ############################################################################## ############################################################################## >>>>>>> >>>>>>> INSTALLATION WITH 'R CMD INSTALL --preclean --no-multiarch --library=made4.buildbin-libdir made4_1.56.0.tar.gz' >>>>>>> * installing *source* package ‘made4’ ... ** R ** data ** inst ** byte-compile and prepare package for lazy loading ** help *** installing help indices ** building package indices ** installing vignettes ** testing if installed package can be loaded * DONE (made4)