| Back to Multiple platform build/check report for BioC 3.8 | 
 | 
This page was generated on 2019-04-16 11:48:06 -0400 (Tue, 16 Apr 2019).
| Package 880/1649 | Hostname | OS / Arch | INSTALL | BUILD | CHECK | BUILD BIN | ||||||
| maSigPro 1.54.0 Maria Jose Nueda 
 | malbec1 | Linux (Ubuntu 16.04.6 LTS) / x86_64 | OK | [ OK ] | OK |  | ||||||
| merida1 | OS X 10.11.6 El Capitan / x86_64 | OK | OK | OK | OK |  | 
| Package: maSigPro | 
| Version: 1.54.0 | 
| Command: /home/biocbuild/bbs-3.8-bioc/R/bin/R CMD build --keep-empty-dirs --no-resave-data maSigPro | 
| StartedAt: 2019-04-15 18:40:28 -0400 (Mon, 15 Apr 2019) | 
| EndedAt: 2019-04-15 18:40:36 -0400 (Mon, 15 Apr 2019) | 
| EllapsedTime: 7.9 seconds | 
| RetCode: 0 | 
| Status: OK | 
| PackageFile: maSigPro_1.54.0.tar.gz | 
| PackageFileSize: 1.479 MiB | 
############################################################################## ############################################################################## ### ### Running command: ### ### /home/biocbuild/bbs-3.8-bioc/R/bin/R CMD build --keep-empty-dirs --no-resave-data maSigPro ### ############################################################################## ############################################################################## * checking for file ‘maSigPro/DESCRIPTION’ ... OK * preparing ‘maSigPro’: * checking DESCRIPTION meta-information ... OK * installing the package to build vignettes * creating vignettes ... OK * checking for LF line-endings in source and make files and shell scripts * checking for empty or unneeded directories * looking to see if a ‘data/datalist’ file should be added * building ‘maSigPro_1.54.0.tar.gz’