| Back to Multiple platform build/check report for BioC 3.8 | 
  | 
This page was generated on 2019-04-16 11:56:59 -0400 (Tue, 16 Apr 2019).
| Package 875/1649 | Hostname | OS / Arch | INSTALL | BUILD | CHECK | BUILD BIN | ||||||
| maPredictDSC 1.20.0 Adi Laurentiu Tarca 
  | malbec1 | Linux (Ubuntu 16.04.6 LTS) / x86_64 | OK | OK | OK | |||||||
| merida1 | OS X 10.11.6 El Capitan / x86_64 | OK | OK | OK | [ OK ] | 
| Package: maPredictDSC | 
| Version: 1.20.0 | 
| Command: rm -rf maPredictDSC.buildbin-libdir && mkdir maPredictDSC.buildbin-libdir && /Users/biocbuild/BBS/utils/build-universal.sh maPredictDSC_1.20.0.tar.gz /Library/Frameworks/R.framework/Versions/Current/Resources/bin/R maPredictDSC.buildbin-libdir | 
| StartedAt: 2019-04-16 04:19:07 -0400 (Tue, 16 Apr 2019) | 
| EndedAt: 2019-04-16 04:19:53 -0400 (Tue, 16 Apr 2019) | 
| EllapsedTime: 45.5 seconds | 
| RetCode: 0 | 
| Status: OK | 
| PackageFile: maPredictDSC_1.20.0.tgz | 
| PackageFileSize: 162.7 KiB | 
############################################################################## ############################################################################## ### ### Running command: ### ### rm -rf maPredictDSC.buildbin-libdir && mkdir maPredictDSC.buildbin-libdir && /Users/biocbuild/BBS/utils/build-universal.sh maPredictDSC_1.20.0.tar.gz /Library/Frameworks/R.framework/Versions/Current/Resources/bin/R maPredictDSC.buildbin-libdir ### ############################################################################## ############################################################################## >>>>>>> >>>>>>> INSTALLATION WITH 'R CMD INSTALL --preclean --no-multiarch --library=maPredictDSC.buildbin-libdir maPredictDSC_1.20.0.tar.gz' >>>>>>> * installing *source* package ‘maPredictDSC’ ... ** R ** inst ** byte-compile and prepare package for lazy loading ** help *** installing help indices ** building package indices ** installing vignettes ** testing if installed package can be loaded * DONE (maPredictDSC)