Back to Multiple platform build/check report for BioC 3.8 |
|
This page was generated on 2019-04-13 11:22:38 -0400 (Sat, 13 Apr 2019).
Package 851/1649 | Hostname | OS / Arch | INSTALL | BUILD | CHECK | BUILD BIN | ||||||
lpNet 2.14.0 Lars Kaderali
| malbec1 | Linux (Ubuntu 16.04.6 LTS) / x86_64 | OK | OK | OK | ![]() | ||||||
tokay1 | Windows Server 2012 R2 Standard / x64 | [ OK ] | OK | OK | OK | ![]() | ||||||
merida1 | OS X 10.11.6 El Capitan / x86_64 | OK | OK | OK | OK | ![]() |
Package: lpNet |
Version: 2.14.0 |
Command: C:\cygwin\bin\curl.exe -O https://malbec1.bioconductor.org/BBS/3.8/bioc/src/contrib/lpNet_2.14.0.tar.gz && rm -rf lpNet.buildbin-libdir && mkdir lpNet.buildbin-libdir && C:\Users\biocbuild\bbs-3.8-bioc\R\bin\R.exe CMD INSTALL --merge-multiarch --build --library=lpNet.buildbin-libdir lpNet_2.14.0.tar.gz && C:\Users\biocbuild\bbs-3.8-bioc\R\bin\R.exe CMD INSTALL lpNet_2.14.0.zip && rm lpNet_2.14.0.tar.gz lpNet_2.14.0.zip |
StartedAt: 2019-04-12 19:38:20 -0400 (Fri, 12 Apr 2019) |
EndedAt: 2019-04-12 19:38:57 -0400 (Fri, 12 Apr 2019) |
EllapsedTime: 36.7 seconds |
RetCode: 0 |
Status: OK |
############################################################################## ############################################################################## ### ### Running command: ### ### C:\cygwin\bin\curl.exe -O https://malbec1.bioconductor.org/BBS/3.8/bioc/src/contrib/lpNet_2.14.0.tar.gz && rm -rf lpNet.buildbin-libdir && mkdir lpNet.buildbin-libdir && C:\Users\biocbuild\bbs-3.8-bioc\R\bin\R.exe CMD INSTALL --merge-multiarch --build --library=lpNet.buildbin-libdir lpNet_2.14.0.tar.gz && C:\Users\biocbuild\bbs-3.8-bioc\R\bin\R.exe CMD INSTALL lpNet_2.14.0.zip && rm lpNet_2.14.0.tar.gz lpNet_2.14.0.zip ### ############################################################################## ############################################################################## % Total % Received % Xferd Average Speed Time Time Time Current Dload Upload Total Spent Left Speed 0 0 0 0 0 0 0 0 --:--:-- --:--:-- --:--:-- 0 100 203k 100 203k 0 0 5128k 0 --:--:-- --:--:-- --:--:-- 5656k install for i386 * installing *source* package 'lpNet' ... ** R ** inst ** byte-compile and prepare package for lazy loading ** help *** installing help indices converting help for package 'lpNet' finding HTML links ... done CV html calcActivation html calcPrediction html calcRangeLambda html doILP html generateTimeSeriesNetStates html getAdja html getBaseline html getEdgeAnnot html getObsMat html getSampleAdja html lpNet-package html summarizeRepl html ** building package indices ** installing vignettes ** testing if installed package can be loaded In R CMD INSTALL install for x64 * installing *source* package 'lpNet' ... ** testing if installed package can be loaded * MD5 sums packaged installation of 'lpNet' as lpNet_2.14.0.zip * DONE (lpNet) In R CMD INSTALL In R CMD INSTALL * installing to library 'C:/Users/biocbuild/bbs-3.8-bioc/R/library' package 'lpNet' successfully unpacked and MD5 sums checked In R CMD INSTALL