| Back to Multiple platform build/check report for BioC 3.8 | 
  | 
This page was generated on 2019-04-16 11:56:31 -0400 (Tue, 16 Apr 2019).
| Package 838/1649 | Hostname | OS / Arch | INSTALL | BUILD | CHECK | BUILD BIN | ||||||
| lmdme 1.24.0 Cristobal Fresno 
  | malbec1 | Linux (Ubuntu 16.04.6 LTS) / x86_64 | OK | OK | OK | |||||||
| merida1 | OS X 10.11.6 El Capitan / x86_64 | OK | OK | OK | [ OK ] | 
| Package: lmdme | 
| Version: 1.24.0 | 
| Command: rm -rf lmdme.buildbin-libdir && mkdir lmdme.buildbin-libdir && /Users/biocbuild/BBS/utils/build-universal.sh lmdme_1.24.0.tar.gz /Library/Frameworks/R.framework/Versions/Current/Resources/bin/R lmdme.buildbin-libdir | 
| StartedAt: 2019-04-16 04:17:27 -0400 (Tue, 16 Apr 2019) | 
| EndedAt: 2019-04-16 04:18:13 -0400 (Tue, 16 Apr 2019) | 
| EllapsedTime: 45.7 seconds | 
| RetCode: 0 | 
| Status: OK | 
| PackageFile: lmdme_1.24.0.tgz | 
| PackageFileSize: 539.3 KiB | 
############################################################################## ############################################################################## ### ### Running command: ### ### rm -rf lmdme.buildbin-libdir && mkdir lmdme.buildbin-libdir && /Users/biocbuild/BBS/utils/build-universal.sh lmdme_1.24.0.tar.gz /Library/Frameworks/R.framework/Versions/Current/Resources/bin/R lmdme.buildbin-libdir ### ############################################################################## ############################################################################## >>>>>>> >>>>>>> INSTALLATION WITH 'R CMD INSTALL --preclean --no-multiarch --library=lmdme.buildbin-libdir lmdme_1.24.0.tar.gz' >>>>>>> * installing *source* package ‘lmdme’ ... ** R ** inst ** byte-compile and prepare package for lazy loading Creating a new generic function for ‘p.adjust’ in package ‘lmdme’ ** help *** installing help indices ** building package indices ** installing vignettes ** testing if installed package can be loaded * DONE (lmdme)