Back to Multiple platform build/check report for BioC 3.8 |
|
This page was generated on 2019-04-13 11:20:01 -0400 (Sat, 13 Apr 2019).
Package 824/1649 | Hostname | OS / Arch | INSTALL | BUILD | CHECK | BUILD BIN | ||||||
lapmix 1.48.0 Yann Ruffieux
| malbec1 | Linux (Ubuntu 16.04.6 LTS) / x86_64 | OK | OK | OK | ![]() | ||||||
tokay1 | Windows Server 2012 R2 Standard / x64 | OK | [ OK ] | OK | OK | ![]() | ||||||
merida1 | OS X 10.11.6 El Capitan / x86_64 | OK | OK | OK | OK | ![]() |
Package: lapmix |
Version: 1.48.0 |
Command: chmod a+r lapmix -R && C:\Users\biocbuild\bbs-3.8-bioc\R\bin\R.exe CMD build --keep-empty-dirs --no-resave-data lapmix |
StartedAt: 2019-04-12 20:50:11 -0400 (Fri, 12 Apr 2019) |
EndedAt: 2019-04-12 20:50:22 -0400 (Fri, 12 Apr 2019) |
EllapsedTime: 10.3 seconds |
RetCode: 0 |
Status: OK |
PackageFile: lapmix_1.48.0.tar.gz |
PackageFileSize: 151.2 KiB |
############################################################################## ############################################################################## ### ### Running command: ### ### chmod a+r lapmix -R && C:\Users\biocbuild\bbs-3.8-bioc\R\bin\R.exe CMD build --keep-empty-dirs --no-resave-data lapmix ### ############################################################################## ############################################################################## * checking for file 'lapmix/DESCRIPTION' ... OK * preparing 'lapmix': * checking DESCRIPTION meta-information ... OK * installing the package to build vignettes * creating vignettes ... OK * checking for LF line-endings in source and make files and shell scripts * checking for empty or unneeded directories * building 'lapmix_1.48.0.tar.gz'