| Back to Multiple platform build/check report for BioC 3.8 | 
  | 
This page was generated on 2019-04-13 11:24:09 -0400 (Sat, 13 Apr 2019).
| Package 783/1649 | Hostname | OS / Arch | INSTALL | BUILD | CHECK | BUILD BIN | ||||||
| interactiveDisplayBase 1.20.0 Shawn Balcome 
  | malbec1 | Linux (Ubuntu 16.04.6 LTS) / x86_64 | OK | OK | WARNINGS | |||||||
| tokay1 | Windows Server 2012 R2 Standard / x64 | [ OK ] | OK | WARNINGS | OK | |||||||
| merida1 | OS X 10.11.6 El Capitan / x86_64 | OK | OK | WARNINGS | OK | 
| Package: interactiveDisplayBase | 
| Version: 1.20.0 | 
| Command: C:\cygwin\bin\curl.exe -O https://malbec1.bioconductor.org/BBS/3.8/bioc/src/contrib/interactiveDisplayBase_1.20.0.tar.gz && rm -rf interactiveDisplayBase.buildbin-libdir && mkdir interactiveDisplayBase.buildbin-libdir && C:\Users\biocbuild\bbs-3.8-bioc\R\bin\R.exe CMD INSTALL --merge-multiarch --build --library=interactiveDisplayBase.buildbin-libdir interactiveDisplayBase_1.20.0.tar.gz && C:\Users\biocbuild\bbs-3.8-bioc\R\bin\R.exe CMD INSTALL interactiveDisplayBase_1.20.0.zip && rm interactiveDisplayBase_1.20.0.tar.gz interactiveDisplayBase_1.20.0.zip | 
| StartedAt: 2019-04-12 18:40:19 -0400 (Fri, 12 Apr 2019) | 
| EndedAt: 2019-04-12 18:40:39 -0400 (Fri, 12 Apr 2019) | 
| EllapsedTime: 20.7 seconds | 
| RetCode: 0 | 
| Status: OK | 
##############################################################################
##############################################################################
###
### Running command:
###
###   C:\cygwin\bin\curl.exe -O https://malbec1.bioconductor.org/BBS/3.8/bioc/src/contrib/interactiveDisplayBase_1.20.0.tar.gz && rm -rf interactiveDisplayBase.buildbin-libdir && mkdir interactiveDisplayBase.buildbin-libdir && C:\Users\biocbuild\bbs-3.8-bioc\R\bin\R.exe CMD INSTALL --merge-multiarch --build --library=interactiveDisplayBase.buildbin-libdir interactiveDisplayBase_1.20.0.tar.gz && C:\Users\biocbuild\bbs-3.8-bioc\R\bin\R.exe CMD INSTALL interactiveDisplayBase_1.20.0.zip && rm interactiveDisplayBase_1.20.0.tar.gz interactiveDisplayBase_1.20.0.zip
###
##############################################################################
##############################################################################
  % Total    % Received % Xferd  Average Speed   Time    Time     Time  Current
                                 Dload  Upload   Total   Spent    Left  Speed
  0     0    0     0    0     0      0      0 --:--:-- --:--:-- --:--:--     0
100  7621  100  7621    0     0   160k      0 --:--:-- --:--:-- --:--:--  173k
install for i386
* installing *source* package 'interactiveDisplayBase' ...
** R
** inst
** byte-compile and prepare package for lazy loading
** help
*** installing help indices
  converting help for package 'interactiveDisplayBase'
    finding HTML links ... done
    dot_runApp                              html  
    interactiveDisplayBase-methods          html  
** building package indices
** installing vignettes
** testing if installed package can be loaded
In R CMD INSTALL
install for x64
* installing *source* package 'interactiveDisplayBase' ...
** testing if installed package can be loaded
* MD5 sums
packaged installation of 'interactiveDisplayBase' as interactiveDisplayBase_1.20.0.zip
* DONE (interactiveDisplayBase)
In R CMD INSTALL
In R CMD INSTALL
* installing to library 'C:/Users/biocbuild/bbs-3.8-bioc/R/library'
package 'interactiveDisplayBase' successfully unpacked and MD5 sums checked
In R CMD INSTALL