Back to Multiple platform build/check report for BioC 3.8 |
|
This page was generated on 2019-04-13 11:19:23 -0400 (Sat, 13 Apr 2019).
Package 774/1649 | Hostname | OS / Arch | INSTALL | BUILD | CHECK | BUILD BIN | ||||||
impute 1.56.0 Balasubramanian Narasimhan
| malbec1 | Linux (Ubuntu 16.04.6 LTS) / x86_64 | OK | OK | OK | ![]() | ||||||
tokay1 | Windows Server 2012 R2 Standard / x64 | OK | OK | OK | [ OK ] | ![]() | ||||||
merida1 | OS X 10.11.6 El Capitan / x86_64 | OK | OK | OK | OK | ![]() |
Package: impute |
Version: 1.56.0 |
Command: rm -rf impute.buildbin-libdir && mkdir impute.buildbin-libdir && C:\Users\biocbuild\bbs-3.8-bioc\R\bin\R.exe CMD INSTALL --merge-multiarch --build --library=impute.buildbin-libdir impute_1.56.0.tar.gz |
StartedAt: 2019-04-13 07:31:56 -0400 (Sat, 13 Apr 2019) |
EndedAt: 2019-04-13 07:32:08 -0400 (Sat, 13 Apr 2019) |
EllapsedTime: 12.7 seconds |
RetCode: 0 |
Status: OK |
PackageFile: impute_1.56.0.zip |
PackageFileSize: 663.8 KiB |
############################################################################## ############################################################################## ### ### Running command: ### ### rm -rf impute.buildbin-libdir && mkdir impute.buildbin-libdir && C:\Users\biocbuild\bbs-3.8-bioc\R\bin\R.exe CMD INSTALL --merge-multiarch --build --library=impute.buildbin-libdir impute_1.56.0.tar.gz ### ############################################################################## ############################################################################## install for i386 * installing *source* package 'impute' ... ** libs C:/Rtools/mingw_32/bin/gfortran -O3 -mtune=generic -c knnimpute.f -o knnimpute.o C:/Rtools/mingw_32/bin/gcc -shared -s -static-libgcc -o impute.dll tmp.def knnimpute.o -LC:/extsoft/lib/i386 -LC:/extsoft/lib -lgfortran -lm -lquadmath -LC:/Users/BIOCBU˜1/BBS-3˜1.8-B/R/bin/i386 -lR installing to C:/Users/biocbuild/bbs-3.8-bioc/meat/impute.buildbin-libdir/impute/libs/i386 ** R ** data ** byte-compile and prepare package for lazy loading ** help *** installing help indices converting help for package 'impute' finding HTML links ... done impute.knn html khanmiss html ** building package indices ** testing if installed package can be loaded In R CMD INSTALL install for x64 * installing *source* package 'impute' ... ** libs C:/Rtools/mingw_64/bin/gfortran -O2 -mtune=generic -c knnimpute.f -o knnimpute.o C:/Rtools/mingw_64/bin/gcc -shared -s -static-libgcc -o impute.dll tmp.def knnimpute.o -LC:/extsoft/lib/x64 -LC:/extsoft/lib -lgfortran -lm -lquadmath -LC:/Users/BIOCBU˜1/BBS-3˜1.8-B/R/bin/x64 -lR installing to C:/Users/biocbuild/bbs-3.8-bioc/meat/impute.buildbin-libdir/impute/libs/x64 ** testing if installed package can be loaded * MD5 sums packaged installation of 'impute' as impute_1.56.0.zip * DONE (impute) In R CMD INSTALL In R CMD INSTALL