| Back to Multiple platform build/check report for BioC 3.8 |
|
This page was generated on 2019-04-16 11:55:10 -0400 (Tue, 16 Apr 2019).
| Package 752/1649 | Hostname | OS / Arch | INSTALL | BUILD | CHECK | BUILD BIN | ||||||
| iChip 1.36.0 Qianxing Mo
| malbec1 | Linux (Ubuntu 16.04.6 LTS) / x86_64 | OK | OK | OK | |||||||
| merida1 | OS X 10.11.6 El Capitan / x86_64 | OK | [ OK ] | OK | OK |
| Package: iChip |
| Version: 1.36.0 |
| Command: /Library/Frameworks/R.framework/Versions/Current/Resources/bin/R CMD build --keep-empty-dirs --no-resave-data iChip |
| StartedAt: 2019-04-15 19:13:15 -0400 (Mon, 15 Apr 2019) |
| EndedAt: 2019-04-15 19:14:20 -0400 (Mon, 15 Apr 2019) |
| EllapsedTime: 65.3 seconds |
| RetCode: 0 |
| Status: OK |
| PackageFile: iChip_1.36.0.tar.gz |
| PackageFileSize: 1.609 MiB |
##############################################################################
##############################################################################
###
### Running command:
###
### /Library/Frameworks/R.framework/Versions/Current/Resources/bin/R CMD build --keep-empty-dirs --no-resave-data iChip
###
##############################################################################
##############################################################################
* checking for file ‘iChip/DESCRIPTION’ ... OK
* preparing ‘iChip’:
* checking DESCRIPTION meta-information ... OK
* cleaning src
* running ‘cleanup’
* installing the package to build vignettes
* creating vignettes ... OK
Warning: ‘inst/doc’ file
‘iChip.pdf’
ignored as vignettes have been rebuilt.
Run R CMD build with --no-build-vignettes to prevent rebuilding.
* cleaning src
* running ‘cleanup’
* checking for LF line-endings in source and make files and shell scripts
* checking for empty or unneeded directories
* looking to see if a ‘data/datalist’ file should be added
* building ‘iChip_1.36.0.tar.gz’