| Back to Multiple platform build/check report for BioC 3.8 | 
  | 
This page was generated on 2019-04-13 11:27:37 -0400 (Sat, 13 Apr 2019).
| Package 720/1649 | Hostname | OS / Arch | INSTALL | BUILD | CHECK | BUILD BIN | ||||||
| hicrep 1.6.0 Tao Yang 
  | malbec1 | Linux (Ubuntu 16.04.6 LTS) / x86_64 | OK | OK | OK | |||||||
| tokay1 | Windows Server 2012 R2 Standard / x64 | OK | OK | OK | [ OK ] | |||||||
| merida1 | OS X 10.11.6 El Capitan / x86_64 | OK | OK | OK | OK | 
| Package: hicrep | 
| Version: 1.6.0 | 
| Command: rm -rf hicrep.buildbin-libdir && mkdir hicrep.buildbin-libdir && C:\Users\biocbuild\bbs-3.8-bioc\R\bin\R.exe CMD INSTALL --merge-multiarch --build --library=hicrep.buildbin-libdir hicrep_1.6.0.tar.gz | 
| StartedAt: 2019-04-13 07:28:27 -0400 (Sat, 13 Apr 2019) | 
| EndedAt: 2019-04-13 07:30:07 -0400 (Sat, 13 Apr 2019) | 
| EllapsedTime: 99.5 seconds | 
| RetCode: 0 | 
| Status: OK | 
| PackageFile: hicrep_1.6.0.zip | 
| PackageFileSize: 74.56 KiB | 
##############################################################################
##############################################################################
###
### Running command:
###
###   rm -rf hicrep.buildbin-libdir && mkdir hicrep.buildbin-libdir && C:\Users\biocbuild\bbs-3.8-bioc\R\bin\R.exe CMD INSTALL --merge-multiarch --build --library=hicrep.buildbin-libdir hicrep_1.6.0.tar.gz
###
##############################################################################
##############################################################################
install for i386
* installing *source* package 'hicrep' ...
** R
** data
*** moving datasets to lazyload DB
** inst
** byte-compile and prepare package for lazy loading
** help
*** installing help indices
  converting help for package 'hicrep'
    finding HTML links ... done
    HiCR1                                   html  
    HiCR2                                   html  
    MatToVec                                html  
    depth.adj                               html  
    get.scc                                 html  
    hicrep-package                          html  
    htrain                                  html  
    prep                                    html  
    smoothMat                               html  
    vstran                                  html  
** building package indices
** installing vignettes
** testing if installed package can be loaded
In R CMD INSTALL
install for x64
* installing *source* package 'hicrep' ...
** testing if installed package can be loaded
* MD5 sums
packaged installation of 'hicrep' as hicrep_1.6.0.zip
* DONE (hicrep)
In R CMD INSTALL
In R CMD INSTALL