Back to Multiple platform build/check report for BioC 3.8 |
|
This page was generated on 2019-04-13 11:22:02 -0400 (Sat, 13 Apr 2019).
Package 702/1649 | Hostname | OS / Arch | INSTALL | BUILD | CHECK | BUILD BIN | ||||||
gwascat 2.14.0 VJ Carey
| malbec1 | Linux (Ubuntu 16.04.6 LTS) / x86_64 | OK | OK | OK | ![]() | ||||||
tokay1 | Windows Server 2012 R2 Standard / x64 | [ OK ] | OK | OK | OK | ![]() | ||||||
merida1 | OS X 10.11.6 El Capitan / x86_64 | OK | OK | OK | OK | ![]() |
Package: gwascat |
Version: 2.14.0 |
Command: C:\cygwin\bin\curl.exe -O https://malbec1.bioconductor.org/BBS/3.8/bioc/src/contrib/gwascat_2.14.0.tar.gz && rm -rf gwascat.buildbin-libdir && mkdir gwascat.buildbin-libdir && C:\Users\biocbuild\bbs-3.8-bioc\R\bin\R.exe CMD INSTALL --merge-multiarch --build --library=gwascat.buildbin-libdir gwascat_2.14.0.tar.gz && C:\Users\biocbuild\bbs-3.8-bioc\R\bin\R.exe CMD INSTALL gwascat_2.14.0.zip && rm gwascat_2.14.0.tar.gz gwascat_2.14.0.zip |
StartedAt: 2019-04-12 20:23:24 -0400 (Fri, 12 Apr 2019) |
EndedAt: 2019-04-12 20:25:38 -0400 (Fri, 12 Apr 2019) |
EllapsedTime: 133.7 seconds |
RetCode: 0 |
Status: OK |
############################################################################## ############################################################################## ### ### Running command: ### ### C:\cygwin\bin\curl.exe -O https://malbec1.bioconductor.org/BBS/3.8/bioc/src/contrib/gwascat_2.14.0.tar.gz && rm -rf gwascat.buildbin-libdir && mkdir gwascat.buildbin-libdir && C:\Users\biocbuild\bbs-3.8-bioc\R\bin\R.exe CMD INSTALL --merge-multiarch --build --library=gwascat.buildbin-libdir gwascat_2.14.0.tar.gz && C:\Users\biocbuild\bbs-3.8-bioc\R\bin\R.exe CMD INSTALL gwascat_2.14.0.zip && rm gwascat_2.14.0.tar.gz gwascat_2.14.0.zip ### ############################################################################## ############################################################################## % Total % Received % Xferd Average Speed Time Time Time Current Dload Upload Total Spent Left Speed 0 0 0 0 0 0 0 0 --:--:-- --:--:-- --:--:-- 0 80 35.6M 80 28.8M 0 0 48.0M 0 --:--:-- --:--:-- --:--:-- 48.2M 100 35.6M 100 35.6M 0 0 50.8M 0 --:--:-- --:--:-- --:--:-- 51.1M install for i386 * installing *source* package 'gwascat' ... ** R ** data ** inst ** byte-compile and prepare package for lazy loading ** help *** installing help indices converting help for package 'gwascat' finding HTML links ... done bindcadd_snv html gwascat-package html gwastagger html gwaswloc-class html finding level-2 HTML links ... done gwcex2gviz html gwdf_2012_02_02 html ldtagr html locon6 html makeCurrentGwascat html obo2graphNEL html riskyAlleleCount html topTraits html traitsManh html ** building package indices ** installing vignettes ** testing if installed package can be loaded In R CMD INSTALL install for x64 * installing *source* package 'gwascat' ... ** testing if installed package can be loaded * MD5 sums packaged installation of 'gwascat' as gwascat_2.14.0.zip * DONE (gwascat) In R CMD INSTALL In R CMD INSTALL * installing to library 'C:/Users/biocbuild/bbs-3.8-bioc/R/library' package 'gwascat' successfully unpacked and MD5 sums checked In R CMD INSTALL