| Back to Multiple platform build/check report for BioC 3.8 | 
  | 
This page was generated on 2019-04-13 11:21:49 -0400 (Sat, 13 Apr 2019).
| Package 681/1649 | Hostname | OS / Arch | INSTALL | BUILD | CHECK | BUILD BIN | ||||||
| graphite 1.28.2 Gabriele Sales 
  | malbec1 | Linux (Ubuntu 16.04.6 LTS) / x86_64 | OK | OK | OK | |||||||
| tokay1 | Windows Server 2012 R2 Standard / x64 | OK | OK | OK | [ OK ] | |||||||
| merida1 | OS X 10.11.6 El Capitan / x86_64 | OK | OK | OK | OK | 
| Package: graphite | 
| Version: 1.28.2 | 
| Command: rm -rf graphite.buildbin-libdir && mkdir graphite.buildbin-libdir && C:\Users\biocbuild\bbs-3.8-bioc\R\bin\R.exe CMD INSTALL --merge-multiarch --build --library=graphite.buildbin-libdir graphite_1.28.2.tar.gz | 
| StartedAt: 2019-04-13 07:21:21 -0400 (Sat, 13 Apr 2019) | 
| EndedAt: 2019-04-13 07:22:23 -0400 (Sat, 13 Apr 2019) | 
| EllapsedTime: 62.2 seconds | 
| RetCode: 0 | 
| Status: OK | 
| PackageFile: graphite_1.28.2.zip | 
| PackageFileSize: 843.1 KiB | 
##############################################################################
##############################################################################
###
### Running command:
###
###   rm -rf graphite.buildbin-libdir && mkdir graphite.buildbin-libdir && C:\Users\biocbuild\bbs-3.8-bioc\R\bin\R.exe CMD INSTALL --merge-multiarch --build --library=graphite.buildbin-libdir graphite_1.28.2.tar.gz
###
##############################################################################
##############################################################################
install for i386
* installing *source* package 'graphite' ...
** R
** inst
** byte-compile and prepare package for lazy loading
** help
*** installing help indices
  converting help for package 'graphite'
    finding HTML links ... done
    Pathway-class                           html  
    PathwayList-class                       html  
    Pathways-class                          html  
    as.list.PathwayList                     html  
    buildPathway                            html  
    convertIdentifiers                      html  
    cytoscapePlot                           html  
    finding level-2 HTML links ... done
    pathwayDatabases                        html  
    pathwayGraph                            html  
    pathways                                html  
    prepareSPIA                             html  
    runClipper                              html  
    runSPIA                                 html  
    runTopologyGSA                          html  
** building package indices
** installing vignettes
** testing if installed package can be loaded
In R CMD INSTALL
install for x64
* installing *source* package 'graphite' ...
** testing if installed package can be loaded
* MD5 sums
packaged installation of 'graphite' as graphite_1.28.2.zip
* DONE (graphite)
In R CMD INSTALL
In R CMD INSTALL