| Back to Multiple platform build/check report for BioC 3.8 | 
  | 
This page was generated on 2019-04-13 11:21:14 -0400 (Sat, 13 Apr 2019).
| Package 666/1649 | Hostname | OS / Arch | INSTALL | BUILD | CHECK | BUILD BIN | ||||||
| goseq 1.34.1 Nadia Davidson 
  | malbec1 | Linux (Ubuntu 16.04.6 LTS) / x86_64 | OK | OK | OK | |||||||
| tokay1 | Windows Server 2012 R2 Standard / x64 | OK | OK | OK | [ OK ] | |||||||
| merida1 | OS X 10.11.6 El Capitan / x86_64 | OK | OK | OK | OK | 
| Package: goseq | 
| Version: 1.34.1 | 
| Command: rm -rf goseq.buildbin-libdir && mkdir goseq.buildbin-libdir && C:\Users\biocbuild\bbs-3.8-bioc\R\bin\R.exe CMD INSTALL --merge-multiarch --build --library=goseq.buildbin-libdir goseq_1.34.1.tar.gz | 
| StartedAt: 2019-04-13 07:20:45 -0400 (Sat, 13 Apr 2019) | 
| EndedAt: 2019-04-13 07:21:16 -0400 (Sat, 13 Apr 2019) | 
| EllapsedTime: 30.6 seconds | 
| RetCode: 0 | 
| Status: OK | 
| PackageFile: goseq_1.34.1.zip | 
| PackageFileSize: 814.1 KiB | 
##############################################################################
##############################################################################
###
### Running command:
###
###   rm -rf goseq.buildbin-libdir && mkdir goseq.buildbin-libdir && C:\Users\biocbuild\bbs-3.8-bioc\R\bin\R.exe CMD INSTALL --merge-multiarch --build --library=goseq.buildbin-libdir goseq_1.34.1.tar.gz
###
##############################################################################
##############################################################################
install for i386
* installing *source* package 'goseq' ...
** R
** data
** inst
** byte-compile and prepare package for lazy loading
** help
*** installing help indices
  converting help for package 'goseq'
    finding HTML links ... done
    genes                                   html  
    getgo                                   html  
    finding level-2 HTML links ... done
    getlength                               html  
    goseq                                   html  
    makespline                              html  
    nullp                                   html  
    plotPWF                                 html  
    supportedOrganisms                      html  
** building package indices
** installing vignettes
** testing if installed package can be loaded
In R CMD INSTALL
install for x64
* installing *source* package 'goseq' ...
** testing if installed package can be loaded
* MD5 sums
packaged installation of 'goseq' as goseq_1.34.1.zip
* DONE (goseq)
In R CMD INSTALL
In R CMD INSTALL