| Back to Multiple platform build/check report for BioC 3.8 | 
  | 
This page was generated on 2019-04-13 11:25:42 -0400 (Sat, 13 Apr 2019).
| Package 633/1649 | Hostname | OS / Arch | INSTALL | BUILD | CHECK | BUILD BIN | ||||||
| genotypeeval 1.14.0 Jennifer Tom 
  | malbec1 | Linux (Ubuntu 16.04.6 LTS) / x86_64 | OK | OK | OK | |||||||
| tokay1 | Windows Server 2012 R2 Standard / x64 | OK | [ OK ] | OK | OK | |||||||
| merida1 | OS X 10.11.6 El Capitan / x86_64 | OK | OK | OK | OK | 
| Package: genotypeeval | 
| Version: 1.14.0 | 
| Command: chmod a+r genotypeeval -R && C:\Users\biocbuild\bbs-3.8-bioc\R\bin\R.exe CMD build --keep-empty-dirs --no-resave-data genotypeeval | 
| StartedAt: 2019-04-12 22:32:41 -0400 (Fri, 12 Apr 2019) | 
| EndedAt: 2019-04-12 22:32:52 -0400 (Fri, 12 Apr 2019) | 
| EllapsedTime: 11.0 seconds | 
| RetCode: 0 | 
| Status: OK | 
| PackageFile: genotypeeval_1.14.0.tar.gz | 
| PackageFileSize: 403.4 KiB | 
############################################################################## ############################################################################## ### ### Running command: ### ### chmod a+r genotypeeval -R && C:\Users\biocbuild\bbs-3.8-bioc\R\bin\R.exe CMD build --keep-empty-dirs --no-resave-data genotypeeval ### ############################################################################## ############################################################################## * checking for file 'genotypeeval/DESCRIPTION' ... OK * preparing 'genotypeeval': * checking DESCRIPTION meta-information ... OK * checking for LF line-endings in source and make files and shell scripts * checking for empty or unneeded directories * building 'genotypeeval_1.14.0.tar.gz'