Back to Multiple platform build/check report for BioC 3.8 |
|
This page was generated on 2019-04-16 11:52:22 -0400 (Tue, 16 Apr 2019).
Package 614/1649 | Hostname | OS / Arch | INSTALL | BUILD | CHECK | BUILD BIN | ||||||
geneXtendeR 1.8.0 Bohdan Khomtchouk
| malbec1 | Linux (Ubuntu 16.04.6 LTS) / x86_64 | [ OK ] | OK | OK | ![]() | ||||||
merida1 | OS X 10.11.6 El Capitan / x86_64 | OK | OK | OK | OK | ![]() |
Package: geneXtendeR |
Version: 1.8.0 |
Command: /home/biocbuild/bbs-3.8-bioc/R/bin/R CMD INSTALL geneXtendeR |
StartedAt: 2019-04-15 18:17:11 -0400 (Mon, 15 Apr 2019) |
EndedAt: 2019-04-15 18:17:55 -0400 (Mon, 15 Apr 2019) |
EllapsedTime: 44.2 seconds |
RetCode: 0 |
Status: OK |
############################################################################## ############################################################################## ### ### Running command: ### ### /home/biocbuild/bbs-3.8-bioc/R/bin/R CMD INSTALL geneXtendeR ### ############################################################################## ############################################################################## * installing to library ‘/home/biocbuild/bbs-3.8-bioc/R/library’ * installing *source* package ‘geneXtendeR’ ... ** libs gcc -I"/home/biocbuild/bbs-3.8-bioc/R/include" -DNDEBUG -I/usr/local/include -fpic -g -O2 -Wall -c annotate.c -o annotate.o annotate.c: In function ‘annotate’: annotate.c:106:5: warning: ignoring return value of ‘fgets’, declared with attribute warn_unused_result [-Wunused-result] fgets(varstr, 50000, varfp); ^ annotate.c:116:5: warning: ignoring return value of ‘fgets’, declared with attribute warn_unused_result [-Wunused-result] fgets(vcfstr, 10000, vcffp); ^ gcc -I"/home/biocbuild/bbs-3.8-bioc/R/include" -DNDEBUG -I/usr/local/include -fpic -g -O2 -Wall -c extract_number.c -o extract_number.o extract_number.c: In function ‘extractnumber’: extract_number.c:72:10: warning: variable ‘n_1’ set but not used [-Wunused-but-set-variable] long n_1; ^ extract_number.c:66:10: warning: variable ‘j_1’ set but not used [-Wunused-but-set-variable] long j_1; ^ extract_number.c:54:12: warning: variable ‘pvcfcol5_5’ set but not used [-Wunused-but-set-variable] char * pvcfcol5_5; ^ extract_number.c:53:12: warning: variable ‘pvcfcol4_4’ set but not used [-Wunused-but-set-variable] char * pvcfcol4_4; ^ extract_number.c:52:12: warning: variable ‘pvcfcol3_3’ set but not used [-Wunused-but-set-variable] char * pvcfcol3_3; ^ extract_number.c:51:12: warning: variable ‘pvcfcol2_2’ set but not used [-Wunused-but-set-variable] char * pvcfcol2_2; ^ extract_number.c:50:12: warning: variable ‘pvcfcol1_1’ set but not used [-Wunused-but-set-variable] char * pvcfcol1_1; ^ extract_number.c:98:5: warning: ignoring return value of ‘fgets’, declared with attribute warn_unused_result [-Wunused-result] fgets(varstr, 50000, varfp); ^ extract_number.c:108:5: warning: ignoring return value of ‘fgets’, declared with attribute warn_unused_result [-Wunused-result] fgets(vcfstr, 10000, vcffp); ^ gcc -I"/home/biocbuild/bbs-3.8-bioc/R/include" -DNDEBUG -I/usr/local/include -fpic -g -O2 -Wall -c extract_peaks.c -o extract_peaks.o extract_peaks.c: In function ‘extractpeaks’: extract_peaks.c:107:5: warning: ignoring return value of ‘fgets’, declared with attribute warn_unused_result [-Wunused-result] fgets(varstr, 50000, varfp); ^ extract_peaks.c:117:5: warning: ignoring return value of ‘fgets’, declared with attribute warn_unused_result [-Wunused-result] fgets(vcfstr, 10000, vcffp); ^ gcc -shared -L/home/biocbuild/bbs-3.8-bioc/R/lib -L/usr/local/lib -o geneXtendeR.so annotate.o extract_number.o extract_peaks.o -L/home/biocbuild/bbs-3.8-bioc/R/lib -lR installing to /home/biocbuild/bbs-3.8-bioc/R/library/geneXtendeR/libs ** R ** data *** moving datasets to lazyload DB ** inst ** byte-compile and prepare package for lazy loading ** help *** installing help indices ** building package indices ** installing vignettes ** testing if installed package can be loaded * DONE (geneXtendeR)