| Back to Multiple platform build/check report for BioC 3.8 | 
  | 
This page was generated on 2019-04-13 11:22:48 -0400 (Sat, 13 Apr 2019).
| Package 611/1649 | Hostname | OS / Arch | INSTALL | BUILD | CHECK | BUILD BIN | ||||||
| geNetClassifier 1.22.0 Sara Aibar 
  | malbec1 | Linux (Ubuntu 16.04.6 LTS) / x86_64 | OK | OK | OK | |||||||
| tokay1 | Windows Server 2012 R2 Standard / x64 | OK | OK | OK | [ OK ] | |||||||
| merida1 | OS X 10.11.6 El Capitan / x86_64 | OK | OK | OK | OK | 
| Package: geNetClassifier | 
| Version: 1.22.0 | 
| Command: rm -rf geNetClassifier.buildbin-libdir && mkdir geNetClassifier.buildbin-libdir && C:\Users\biocbuild\bbs-3.8-bioc\R\bin\R.exe CMD INSTALL --merge-multiarch --build --library=geNetClassifier.buildbin-libdir geNetClassifier_1.22.0.tar.gz | 
| StartedAt: 2019-04-13 07:18:22 -0400 (Sat, 13 Apr 2019) | 
| EndedAt: 2019-04-13 07:18:45 -0400 (Sat, 13 Apr 2019) | 
| EllapsedTime: 22.8 seconds | 
| RetCode: 0 | 
| Status: OK | 
| PackageFile: geNetClassifier_1.22.0.zip | 
| PackageFileSize: 3.024 MiB | 
##############################################################################
##############################################################################
###
### Running command:
###
###   rm -rf geNetClassifier.buildbin-libdir && mkdir geNetClassifier.buildbin-libdir && C:\Users\biocbuild\bbs-3.8-bioc\R\bin\R.exe CMD INSTALL --merge-multiarch --build --library=geNetClassifier.buildbin-libdir geNetClassifier_1.22.0.tar.gz
###
##############################################################################
##############################################################################
install for i386
* installing *source* package 'geNetClassifier' ...
** R
** data
** inst
** byte-compile and prepare package for lazy loading
** help
*** installing help indices
  converting help for package 'geNetClassifier'
    finding HTML links ... done
    GeNetClassifierReturn-class             html  
    GeneralizationError-class               html  
    GenesNetwork-class                      html  
    GenesRanking-class                      html  
    calculateGenesRanking                   html  
    externalValidation.probMatrix           html  
    externalValidation.stats                html  
    gClasses-methods                        html  
    geNetClassifier-package                 html  
    geNetClassifier                         html  
    finding level-2 HTML links ... done
    geneSymbols                             html  
    genesDetails-methods                    html  
    getEdges-methods                        html  
    getNodes-methods                        html  
    getNumEdges-methods                     html  
    getNumNodes-methods                     html  
    getRanking-methods                      html  
    getSubNetwork-methods                   html  
    getTopRanking-methods                   html  
    leukemiasClassifier                     html  
    network2txt                             html  
    numGenes-methods                        html  
    numSignificantGenes-methods             html  
    overview-methods                        html  
    plot.GeNetClassifierReturn              html  
    plot.GenesRanking                       html  
    plotAssignments                         html  
    plotDiscriminantPower                   html  
    plotExpressionProfiles                  html  
    plotNetwork                             html  
    queryGeNetClassifier                    html  
    querySummary                            html  
    setProperties-methods                   html  
** building package indices
** installing vignettes
** testing if installed package can be loaded
In R CMD INSTALL
install for x64
* installing *source* package 'geNetClassifier' ...
** testing if installed package can be loaded
* MD5 sums
packaged installation of 'geNetClassifier' as geNetClassifier_1.22.0.zip
* DONE (geNetClassifier)
In R CMD INSTALL
In R CMD INSTALL