| Back to Multiple platform build/check report for BioC 3.8 | 
  | 
This page was generated on 2019-04-13 11:19:58 -0400 (Sat, 13 Apr 2019).
| Package 569/1649 | Hostname | OS / Arch | INSTALL | BUILD | CHECK | BUILD BIN | ||||||
| gaggle 1.50.0 Christopher Bare 
  | malbec1 | Linux (Ubuntu 16.04.6 LTS) / x86_64 | OK | OK | OK | |||||||
| tokay1 | Windows Server 2012 R2 Standard / x64 | OK | OK | OK | [ OK ] | |||||||
| merida1 | OS X 10.11.6 El Capitan / x86_64 | OK | OK | OK | OK | 
| Package: gaggle | 
| Version: 1.50.0 | 
| Command: rm -rf gaggle.buildbin-libdir && mkdir gaggle.buildbin-libdir && C:\Users\biocbuild\bbs-3.8-bioc\R\bin\R.exe CMD INSTALL --merge-multiarch --build --library=gaggle.buildbin-libdir gaggle_1.50.0.tar.gz | 
| StartedAt: 2019-04-13 07:16:57 -0400 (Sat, 13 Apr 2019) | 
| EndedAt: 2019-04-13 07:17:08 -0400 (Sat, 13 Apr 2019) | 
| EllapsedTime: 10.7 seconds | 
| RetCode: 0 | 
| Status: OK | 
| PackageFile: gaggle_1.50.0.zip | 
| PackageFileSize: 336.4 KiB | 
##############################################################################
##############################################################################
###
### Running command:
###
###   rm -rf gaggle.buildbin-libdir && mkdir gaggle.buildbin-libdir && C:\Users\biocbuild\bbs-3.8-bioc\R\bin\R.exe CMD INSTALL --merge-multiarch --build --library=gaggle.buildbin-libdir gaggle_1.50.0.tar.gz
###
##############################################################################
##############################################################################
install for i386
* installing *source* package 'gaggle' ...
** R
** inst
** byte-compile and prepare package for lazy loading
** help
*** installing help indices
  converting help for package 'gaggle'
    finding HTML links ... done
    broadcast                               html  
    connectToGaggle                         html  
    disconnectFromGaggle                    html  
    gaggleInit                              html  
    geese                                   html  
    getCluster                              html  
    getJavaClassName                        html  
    getMatrix                               html  
    getNameList                             html  
    getNetwork                              html  
    getSpecies                              html  
    getTargetGoose                          html  
    getTuple                                html  
    hideGoose                               html  
    newTuple                                html  
    setSpecies                              html  
    setTargetGoose                          html  
    showGoose                               html  
    testGagglePackage                       html  
** building package indices
** installing vignettes
** testing if installed package can be loaded
onLoad -- libname: C:/Users/biocbuild/bbs-3.8-bioc/meat/gaggle.buildbin-libdir pkgname: gaggle 
path to jar: C:/Users/biocbuild/bbs-3.8-bioc/meat/gaggle.buildbin-libdir/gaggle/jars/gaggleRShell.jar 
      script:  gaggle.R $Revision: 4499 $   $Date: 2010-08-10 17:15:03 -0700 (Tue, 10 Aug 2010) $ 
  os version:  Windows Server 2012 R2 
 jvm version:  1.8.0_102 
   You are using the wrong version of Java.
   Please see http://gaggle.systemsbiology.org/docs/html/java
In R CMD INSTALL
install for x64
* installing *source* package 'gaggle' ...
** testing if installed package can be loaded
onLoad -- libname: C:/Users/biocbuild/bbs-3.8-bioc/meat/gaggle.buildbin-libdir pkgname: gaggle 
path to jar: C:/Users/biocbuild/bbs-3.8-bioc/meat/gaggle.buildbin-libdir/gaggle/jars/gaggleRShell.jar 
      script:  gaggle.R $Revision: 4499 $   $Date: 2010-08-10 17:15:03 -0700 (Tue, 10 Aug 2010) $ 
  os version:  Windows Server 2012 R2 
 jvm version:  1.8.0_102 
   You are using the wrong version of Java.
   Please see http://gaggle.systemsbiology.org/docs/html/java
* MD5 sums
packaged installation of 'gaggle' as gaggle_1.50.0.zip
* DONE (gaggle)
In R CMD INSTALL
In R CMD INSTALL