Back to Multiple platform build/check report for BioC 3.8 |
|
This page was generated on 2019-04-16 11:57:42 -0400 (Tue, 16 Apr 2019).
Package 529/1649 | Hostname | OS / Arch | INSTALL | BUILD | CHECK | BUILD BIN | ||||||
flowClean 1.20.0 Kipper Fletez-Brant
| malbec1 | Linux (Ubuntu 16.04.6 LTS) / x86_64 | OK | OK | WARNINGS | ![]() | ||||||
merida1 | OS X 10.11.6 El Capitan / x86_64 | OK | OK | WARNINGS | [ OK ] | ![]() |
Package: flowClean |
Version: 1.20.0 |
Command: rm -rf flowClean.buildbin-libdir && mkdir flowClean.buildbin-libdir && /Users/biocbuild/BBS/utils/build-universal.sh flowClean_1.20.0.tar.gz /Library/Frameworks/R.framework/Versions/Current/Resources/bin/R flowClean.buildbin-libdir |
StartedAt: 2019-04-16 04:03:10 -0400 (Tue, 16 Apr 2019) |
EndedAt: 2019-04-16 04:03:53 -0400 (Tue, 16 Apr 2019) |
EllapsedTime: 42.8 seconds |
RetCode: 0 |
Status: OK |
PackageFile: flowClean_1.20.0.tgz |
PackageFileSize: 5.012 MiB |
############################################################################## ############################################################################## ### ### Running command: ### ### rm -rf flowClean.buildbin-libdir && mkdir flowClean.buildbin-libdir && /Users/biocbuild/BBS/utils/build-universal.sh flowClean_1.20.0.tar.gz /Library/Frameworks/R.framework/Versions/Current/Resources/bin/R flowClean.buildbin-libdir ### ############################################################################## ############################################################################## >>>>>>> >>>>>>> INSTALLATION WITH 'R CMD INSTALL --preclean --no-multiarch --library=flowClean.buildbin-libdir flowClean_1.20.0.tar.gz' >>>>>>> * installing *source* package ‘flowClean’ ... ** R ** data ** inst ** byte-compile and prepare package for lazy loading ** help *** installing help indices ** building package indices ** installing vignettes ** testing if installed package can be loaded * DONE (flowClean)