| Back to Multiple platform build/check report for BioC 3.8 | 
  | 
This page was generated on 2019-04-16 11:56:11 -0400 (Tue, 16 Apr 2019).
| Package 508/1649 | Hostname | OS / Arch | INSTALL | BUILD | CHECK | BUILD BIN | ||||||
| fastseg 1.28.0 Guenter Klambauer 
  | malbec1 | Linux (Ubuntu 16.04.6 LTS) / x86_64 | OK | OK | OK | |||||||
| merida1 | OS X 10.11.6 El Capitan / x86_64 | OK | OK | OK | [ OK ] | 
| Package: fastseg | 
| Version: 1.28.0 | 
| Command: rm -rf fastseg.buildbin-libdir && mkdir fastseg.buildbin-libdir && /Users/biocbuild/BBS/utils/build-universal.sh fastseg_1.28.0.tar.gz /Library/Frameworks/R.framework/Versions/Current/Resources/bin/R fastseg.buildbin-libdir | 
| StartedAt: 2019-04-16 04:02:12 -0400 (Tue, 16 Apr 2019) | 
| EndedAt: 2019-04-16 04:02:59 -0400 (Tue, 16 Apr 2019) | 
| EllapsedTime: 47.0 seconds | 
| RetCode: 0 | 
| Status: OK | 
| PackageFile: fastseg_1.28.0.tgz | 
| PackageFileSize: 557.6 KiB | 
##############################################################################
##############################################################################
###
### Running command:
###
###   rm -rf fastseg.buildbin-libdir && mkdir fastseg.buildbin-libdir && /Users/biocbuild/BBS/utils/build-universal.sh fastseg_1.28.0.tar.gz /Library/Frameworks/R.framework/Versions/Current/Resources/bin/R fastseg.buildbin-libdir
###
##############################################################################
##############################################################################
>>>>>>> 
>>>>>>> INSTALLATION WITH 'R CMD INSTALL --preclean --no-multiarch --library=fastseg.buildbin-libdir fastseg_1.28.0.tar.gz'
>>>>>>> 
* installing *source* package ‘fastseg’ ...
** libs
clang -I"/Library/Frameworks/R.framework/Resources/include" -DNDEBUG   -I/usr/local/include   -fPIC  -Wall -g -O2  -c R_init_fastseg.c -o R_init_fastseg.o
clang++  -I"/Library/Frameworks/R.framework/Resources/include" -DNDEBUG   -I/usr/local/include   -fPIC  -Wall -g -O2  -c segment.cpp -o segment.o
segment.cpp:65:9: warning: unused variable 'Rf_beta' [-Wunused-variable]
        double beta,nn;
               ^
/Library/Frameworks/R.framework/Resources/include/Rmath.h:212:15: note: expanded from macro 'beta'
#define beta            Rf_beta
                        ^
1 warning generated.
clang++  -I"/Library/Frameworks/R.framework/Resources/include" -DNDEBUG   -I/usr/local/include   -fPIC  -Wall -g -O2  -c segmentCyberT.cpp -o segmentCyberT.o
segmentCyberT.cpp:63:50: warning: unused variable 'Rf_beta' [-Wunused-variable]
        double newStatisticBptLeft,newStatisticBptRight,beta,nn;
                                                        ^
/Library/Frameworks/R.framework/Resources/include/Rmath.h:212:15: note: expanded from macro 'beta'
#define beta            Rf_beta
                        ^
1 warning generated.
clang++ -dynamiclib -Wl,-headerpad_max_install_names -undefined dynamic_lookup -single_module -multiply_defined suppress -L/Library/Frameworks/R.framework/Resources/lib -L/usr/local/lib -o fastseg.so R_init_fastseg.o segment.o segmentCyberT.o -F/Library/Frameworks/R.framework/.. -framework R -Wl,-framework -Wl,CoreFoundation
installing to /Users/biocbuild/bbs-3.8-bioc/meat/fastseg.buildbin-libdir/fastseg/libs
** R
** data
** inst
** byte-compile and prepare package for lazy loading
** help
*** installing help indices
** building package indices
** installing vignettes
** testing if installed package can be loaded
* DONE (fastseg)
>>>>>>> 
>>>>>>> FIXING LINKS FOR fastseg.buildbin-libdir/fastseg/libs//fastseg.so
>>>>>>> 
install_name_tool -change "/usr/local/lib/libgcc_s.1.dylib" "/Library/Frameworks/R.framework/Versions/3.5/Resources/lib/libgcc_s.1.dylib" "fastseg.buildbin-libdir/fastseg/libs//fastseg.so"
install_name_tool -change "/usr/local/lib/libgfortran.3.dylib" "/Library/Frameworks/R.framework/Versions/3.5/Resources/lib/libgfortran.3.dylib" "fastseg.buildbin-libdir/fastseg/libs//fastseg.so"
install_name_tool -change "/usr/local/lib/libreadline.5.2.dylib" "/Library/Frameworks/R.framework/Versions/3.5/Resources/lib/libreadline.5.2.dylib" "fastseg.buildbin-libdir/fastseg/libs//fastseg.so"
install_name_tool -change "/usr/local/lib/libreadline.dylib" "/Library/Frameworks/R.framework/Versions/3.5/Resources/lib/libreadline.dylib" "fastseg.buildbin-libdir/fastseg/libs//fastseg.so"
install_name_tool -change "/usr/local/lib/libquadmath.0.dylib" "/Library/Frameworks/R.framework/Versions/3.5/Resources/lib/libquadmath.0.dylib" "fastseg.buildbin-libdir/fastseg/libs//fastseg.so"