| Back to Multiple platform build/check report for BioC 3.8 |
|
This page was generated on 2019-04-13 11:25:05 -0400 (Sat, 13 Apr 2019).
| Package 474/1649 | Hostname | OS / Arch | INSTALL | BUILD | CHECK | BUILD BIN | ||||||
| ensembldb 2.6.8 Johannes Rainer
| malbec1 | Linux (Ubuntu 16.04.6 LTS) / x86_64 | OK | OK | OK | |||||||
| tokay1 | Windows Server 2012 R2 Standard / x64 | OK | OK | OK | [ OK ] | |||||||
| merida1 | OS X 10.11.6 El Capitan / x86_64 | OK | OK | OK | OK |
| Package: ensembldb |
| Version: 2.6.8 |
| Command: rm -rf ensembldb.buildbin-libdir && mkdir ensembldb.buildbin-libdir && C:\Users\biocbuild\bbs-3.8-bioc\R\bin\R.exe CMD INSTALL --merge-multiarch --build --library=ensembldb.buildbin-libdir ensembldb_2.6.8.tar.gz |
| StartedAt: 2019-04-13 07:13:45 -0400 (Sat, 13 Apr 2019) |
| EndedAt: 2019-04-13 07:14:31 -0400 (Sat, 13 Apr 2019) |
| EllapsedTime: 46.1 seconds |
| RetCode: 0 |
| Status: OK |
| PackageFile: ensembldb_2.6.8.zip |
| PackageFileSize: 3.363 MiB |
##############################################################################
##############################################################################
###
### Running command:
###
### rm -rf ensembldb.buildbin-libdir && mkdir ensembldb.buildbin-libdir && C:\Users\biocbuild\bbs-3.8-bioc\R\bin\R.exe CMD INSTALL --merge-multiarch --build --library=ensembldb.buildbin-libdir ensembldb_2.6.8.tar.gz
###
##############################################################################
##############################################################################
install for i386
* installing *source* package 'ensembldb' ...
** R
** inst
** byte-compile and prepare package for lazy loading
** help
*** installing help indices
converting help for package 'ensembldb'
finding HTML links ... done
Deprecated html
EnsDb-AnnotationDbi html
EnsDb-class html
EnsDb-exonsBy html
finding level-2 HTML links ... done
EnsDb-lengths html
EnsDb-seqlevels html
EnsDb-sequences html
EnsDb-utils html
EnsDb html
Filter-classes html
ProteinFunctionality html
cdsToTranscript html
convertFilter html
genomeToProtein html
genomeToTranscript html
global-filters html
hasProteinData-EnsDb-method html
listEnsDbs html
makeEnsemblDbPackage html
proteinToGenome html
proteinToTranscript html
runEnsDbApp html
transcriptToCds html
transcriptToGenome html
transcriptToProtein html
useMySQL-EnsDb-method html
** building package indices
** installing vignettes
** testing if installed package can be loaded
In R CMD INSTALL
install for x64
* installing *source* package 'ensembldb' ...
** testing if installed package can be loaded
* MD5 sums
packaged installation of 'ensembldb' as ensembldb_2.6.8.zip
* DONE (ensembldb)
In R CMD INSTALL
In R CMD INSTALL