| Back to Multiple platform build/check report for BioC 3.8 |
|
This page was generated on 2019-04-13 11:28:51 -0400 (Sat, 13 Apr 2019).
| Package 473/1649 | Hostname | OS / Arch | INSTALL | BUILD | CHECK | BUILD BIN | ||||||
| enrichplot 1.2.0 Guangchuang Yu
| malbec1 | Linux (Ubuntu 16.04.6 LTS) / x86_64 | OK | OK | OK | |||||||
| tokay1 | Windows Server 2012 R2 Standard / x64 | [ OK ] | OK | WARNINGS | OK | |||||||
| merida1 | OS X 10.11.6 El Capitan / x86_64 | OK | OK | OK | OK |
| Package: enrichplot |
| Version: 1.2.0 |
| Command: C:\cygwin\bin\curl.exe -O https://malbec1.bioconductor.org/BBS/3.8/bioc/src/contrib/enrichplot_1.2.0.tar.gz && rm -rf enrichplot.buildbin-libdir && mkdir enrichplot.buildbin-libdir && C:\Users\biocbuild\bbs-3.8-bioc\R\bin\R.exe CMD INSTALL --merge-multiarch --build --library=enrichplot.buildbin-libdir enrichplot_1.2.0.tar.gz && C:\Users\biocbuild\bbs-3.8-bioc\R\bin\R.exe CMD INSTALL enrichplot_1.2.0.zip && rm enrichplot_1.2.0.tar.gz enrichplot_1.2.0.zip |
| StartedAt: 2019-04-12 19:33:19 -0400 (Fri, 12 Apr 2019) |
| EndedAt: 2019-04-12 19:36:15 -0400 (Fri, 12 Apr 2019) |
| EllapsedTime: 176.7 seconds |
| RetCode: 0 |
| Status: OK |
##############################################################################
##############################################################################
###
### Running command:
###
### C:\cygwin\bin\curl.exe -O https://malbec1.bioconductor.org/BBS/3.8/bioc/src/contrib/enrichplot_1.2.0.tar.gz && rm -rf enrichplot.buildbin-libdir && mkdir enrichplot.buildbin-libdir && C:\Users\biocbuild\bbs-3.8-bioc\R\bin\R.exe CMD INSTALL --merge-multiarch --build --library=enrichplot.buildbin-libdir enrichplot_1.2.0.tar.gz && C:\Users\biocbuild\bbs-3.8-bioc\R\bin\R.exe CMD INSTALL enrichplot_1.2.0.zip && rm enrichplot_1.2.0.tar.gz enrichplot_1.2.0.zip
###
##############################################################################
##############################################################################
% Total % Received % Xferd Average Speed Time Time Time Current
Dload Upload Total Spent Left Speed
0 0 0 0 0 0 0 0 --:--:-- --:--:-- --:--:-- 0
100 23849 100 23849 0 0 405k 0 --:--:-- --:--:-- --:--:-- 439k
install for i386
* installing *source* package 'enrichplot' ...
** R
** byte-compile and prepare package for lazy loading
** help
*** installing help indices
converting help for package 'enrichplot'
finding HTML links ... done
barplot.enrichResult html
cnetplot html
color_palette html
dotplot html
emapplot html
fortify.enrichResult html
ggtable html
goplot html
gsInfo html
gseaplot html
gseaplot2 html
gsearank html
heatplot html
list2graph html
pmcplot html
reexports html
Rd warning: C:/Users/biocbuild/bbs-3.8-bioc/tmpdir/Rtmpiu6nIi/R.INSTALL9407070bb1/enrichplot/man/reexports.Rd:18: file link 'ggtitle' in package 'ggplot2' does not exist and so has been treated as a topic
ridgeplot html
upsetplot-methods html
** building package indices
** installing vignettes
** testing if installed package can be loaded
In R CMD INSTALL
install for x64
* installing *source* package 'enrichplot' ...
** testing if installed package can be loaded
* MD5 sums
packaged installation of 'enrichplot' as enrichplot_1.2.0.zip
* DONE (enrichplot)
In R CMD INSTALL
In R CMD INSTALL
* installing to library 'C:/Users/biocbuild/bbs-3.8-bioc/R/library'
package 'enrichplot' successfully unpacked and MD5 sums checked
In R CMD INSTALL