Back to Multiple platform build/check report for BioC 3.8 |
|
This page was generated on 2019-04-13 11:22:46 -0400 (Sat, 13 Apr 2019).
Package 462/1649 | Hostname | OS / Arch | INSTALL | BUILD | CHECK | BUILD BIN | ||||||
eiR 1.22.0 Thomas Girke
| malbec1 | Linux (Ubuntu 16.04.6 LTS) / x86_64 | OK | OK | OK | ![]() | ||||||
tokay1 | Windows Server 2012 R2 Standard / x64 | [ OK ] | OK | ERROR | OK | |||||||
merida1 | OS X 10.11.6 El Capitan / x86_64 | OK | OK | OK | OK | ![]() |
Package: eiR |
Version: 1.22.0 |
Command: C:\Users\biocbuild\bbs-3.8-bioc\R\bin\R.exe --arch x64 CMD INSTALL --no-multiarch eiR |
StartedAt: 2019-04-12 19:32:48 -0400 (Fri, 12 Apr 2019) |
EndedAt: 2019-04-12 19:33:27 -0400 (Fri, 12 Apr 2019) |
EllapsedTime: 39.3 seconds |
RetCode: 0 |
Status: OK |
############################################################################## ############################################################################## ### ### Running command: ### ### C:\Users\biocbuild\bbs-3.8-bioc\R\bin\R.exe --arch x64 CMD INSTALL --no-multiarch eiR ### ############################################################################## ############################################################################## * installing to library 'C:/Users/biocbuild/bbs-3.8-bioc/R/library' * installing *source* package 'eiR' ... ** libs C:/Rtools/mingw_64/bin/g++ -I"C:/Users/biocbuild/bbs-3.8-bioc/R/include" -DNDEBUG -I"C:/extsoft/include" -O2 -Wall -mtune=generic -c optimFunctions.cc -o optimFunctions.o C:/Rtools/mingw_64/bin/g++ -shared -s -static-libgcc -o eiR.dll tmp.def optimFunctions.o -LC:/extsoft/lib/x64 -LC:/extsoft/lib -LC:/Users/biocbuild/bbs-3.8-bioc/R/bin/x64 -lR installing to C:/Users/biocbuild/bbs-3.8-bioc/R/library/eiR/libs/x64 ** R ** data ** inst ** byte-compile and prepare package for lazy loading ** help *** installing help indices converting help for package 'eiR' finding HTML links ... done addTransform html eiAdd html eiCluster html eiInit html finding level-2 HTML links ... done eiMakeDb html eiPerformanceTest html eiQuery html example_compounds html freeLSHData html loadLSHData html setDefaultDistance html ** building package indices ** installing vignettes ** testing if installed package can be loaded * DONE (eiR) Making 'packages.html' ... done In R CMD INSTALL