| Back to Multiple platform build/check report for BioC 3.8 | 
  | 
This page was generated on 2019-04-16 12:00:49 -0400 (Tue, 16 Apr 2019).
| Package 413/1649 | Hostname | OS / Arch | INSTALL | BUILD | CHECK | BUILD BIN | ||||||
| diffuStats 1.2.0 Sergio Picart-Armada 
  | malbec1 | Linux (Ubuntu 16.04.6 LTS) / x86_64 | OK | OK | OK | |||||||
| merida1 | OS X 10.11.6 El Capitan / x86_64 | OK | OK | OK | [ OK ] | 
| Package: diffuStats | 
| Version: 1.2.0 | 
| Command: rm -rf diffuStats.buildbin-libdir && mkdir diffuStats.buildbin-libdir && /Users/biocbuild/BBS/utils/build-universal.sh diffuStats_1.2.0.tar.gz /Library/Frameworks/R.framework/Versions/Current/Resources/bin/R diffuStats.buildbin-libdir | 
| StartedAt: 2019-04-16 03:57:33 -0400 (Tue, 16 Apr 2019) | 
| EndedAt: 2019-04-16 03:58:13 -0400 (Tue, 16 Apr 2019) | 
| EllapsedTime: 40.8 seconds | 
| RetCode: 0 | 
| Status: OK | 
| PackageFile: diffuStats_1.2.0.tgz | 
| PackageFileSize: 1.43 MiB | 
##############################################################################
##############################################################################
###
### Running command:
###
###   rm -rf diffuStats.buildbin-libdir && mkdir diffuStats.buildbin-libdir && /Users/biocbuild/BBS/utils/build-universal.sh diffuStats_1.2.0.tar.gz /Library/Frameworks/R.framework/Versions/Current/Resources/bin/R diffuStats.buildbin-libdir
###
##############################################################################
##############################################################################
>>>>>>> 
>>>>>>> INSTALLATION WITH 'R CMD INSTALL --preclean --no-multiarch --library=diffuStats.buildbin-libdir diffuStats_1.2.0.tar.gz'
>>>>>>> 
* installing *source* package ‘diffuStats’ ...
** libs
clang++ -std=gnu++11 -I"/Library/Frameworks/R.framework/Resources/include" -DNDEBUG  -I"/Library/Frameworks/R.framework/Versions/3.5/Resources/library/Rcpp/include" -I"/Library/Frameworks/R.framework/Versions/3.5/Resources/library/RcppArmadillo/include" -I"/Library/Frameworks/R.framework/Versions/3.5/Resources/library/RcppParallel/include" -I/usr/local/include   -fPIC  -Wall -g -O2 -c RcppExports.cpp -o RcppExports.o
clang++ -std=gnu++11 -I"/Library/Frameworks/R.framework/Resources/include" -DNDEBUG  -I"/Library/Frameworks/R.framework/Versions/3.5/Resources/library/Rcpp/include" -I"/Library/Frameworks/R.framework/Versions/3.5/Resources/library/RcppArmadillo/include" -I"/Library/Frameworks/R.framework/Versions/3.5/Resources/library/RcppParallel/include" -I/usr/local/include   -fPIC  -Wall -g -O2 -c diffuse_parallel.cpp -o diffuse_parallel.o
diffuse_parallel.cpp:28:48: warning: 'acquire_chunked<double>' is deprecated [-Wdeprecated-declarations]
  arma::access::rw(res.values) = arma::memory::acquire_chunked<double>(x.size() + 1);
                                               ^
/Library/Frameworks/R.framework/Versions/3.5/Resources/library/RcppArmadillo/include/armadillo_bits/memory.hpp:117:9: note: 'acquire_chunked<double>' has been explicitly marked deprecated here
memory::acquire_chunked(const uword n_elem)
        ^
diffuse_parallel.cpp:32:53: warning: 'acquire_chunked<unsigned int>' is deprecated [-Wdeprecated-declarations]
  arma::access::rw(res.row_indices) = arma::memory::acquire_chunked<arma::uword>(i.size() + 1);
                                                    ^
/Library/Frameworks/R.framework/Versions/3.5/Resources/library/RcppArmadillo/include/armadillo_bits/memory.hpp:117:9: note: 'acquire_chunked<unsigned int>' has been explicitly marked deprecated here
memory::acquire_chunked(const uword n_elem)
        ^
2 warnings generated.
clang -I"/Library/Frameworks/R.framework/Resources/include" -DNDEBUG  -I"/Library/Frameworks/R.framework/Versions/3.5/Resources/library/Rcpp/include" -I"/Library/Frameworks/R.framework/Versions/3.5/Resources/library/RcppArmadillo/include" -I"/Library/Frameworks/R.framework/Versions/3.5/Resources/library/RcppParallel/include" -I/usr/local/include   -fPIC  -Wall -g -O2  -c init.c -o init.o
clang++ -std=gnu++11 -dynamiclib -Wl,-headerpad_max_install_names -undefined dynamic_lookup -single_module -multiply_defined suppress -L/Library/Frameworks/R.framework/Resources/lib -L/usr/local/lib -o diffuStats.so RcppExports.o diffuse_parallel.o init.o -F/Library/Frameworks/R.framework/.. -framework R -Wl,-framework -Wl,CoreFoundation
installing to /Users/biocbuild/bbs-3.8-bioc/meat/diffuStats.buildbin-libdir/diffuStats/libs
** R
** data
*** moving datasets to lazyload DB
** inst
** byte-compile and prepare package for lazy loading
** help
*** installing help indices
** building package indices
** installing vignettes
** testing if installed package can be loaded
* DONE (diffuStats)
>>>>>>> 
>>>>>>> FIXING LINKS FOR diffuStats.buildbin-libdir/diffuStats/libs//diffuStats.so
>>>>>>> 
install_name_tool -change "/usr/local/lib/libgcc_s.1.dylib" "/Library/Frameworks/R.framework/Versions/3.5/Resources/lib/libgcc_s.1.dylib" "diffuStats.buildbin-libdir/diffuStats/libs//diffuStats.so"
install_name_tool -change "/usr/local/lib/libgfortran.3.dylib" "/Library/Frameworks/R.framework/Versions/3.5/Resources/lib/libgfortran.3.dylib" "diffuStats.buildbin-libdir/diffuStats/libs//diffuStats.so"
install_name_tool -change "/usr/local/lib/libreadline.5.2.dylib" "/Library/Frameworks/R.framework/Versions/3.5/Resources/lib/libreadline.5.2.dylib" "diffuStats.buildbin-libdir/diffuStats/libs//diffuStats.so"
install_name_tool -change "/usr/local/lib/libreadline.dylib" "/Library/Frameworks/R.framework/Versions/3.5/Resources/lib/libreadline.dylib" "diffuStats.buildbin-libdir/diffuStats/libs//diffuStats.so"
install_name_tool -change "/usr/local/lib/libquadmath.0.dylib" "/Library/Frameworks/R.framework/Versions/3.5/Resources/lib/libquadmath.0.dylib" "diffuStats.buildbin-libdir/diffuStats/libs//diffuStats.so"