| Back to Multiple platform build/check report for BioC 3.8 |
|
This page was generated on 2019-04-13 11:26:19 -0400 (Sat, 13 Apr 2019).
| Package 276/1649 | Hostname | OS / Arch | INSTALL | BUILD | CHECK | BUILD BIN | ||||||
| clustComp 1.10.0 Aurora Torrente
| malbec1 | Linux (Ubuntu 16.04.6 LTS) / x86_64 | OK | OK | OK | |||||||
| tokay1 | Windows Server 2012 R2 Standard / x64 | [ OK ] | OK | OK | OK | |||||||
| merida1 | OS X 10.11.6 El Capitan / x86_64 | OK | OK | OK | OK |
| Package: clustComp |
| Version: 1.10.0 |
| Command: C:\cygwin\bin\curl.exe -O https://malbec1.bioconductor.org/BBS/3.8/bioc/src/contrib/clustComp_1.10.0.tar.gz && rm -rf clustComp.buildbin-libdir && mkdir clustComp.buildbin-libdir && C:\Users\biocbuild\bbs-3.8-bioc\R\bin\R.exe CMD INSTALL --merge-multiarch --build --library=clustComp.buildbin-libdir clustComp_1.10.0.tar.gz && C:\Users\biocbuild\bbs-3.8-bioc\R\bin\R.exe CMD INSTALL clustComp_1.10.0.zip && rm clustComp_1.10.0.tar.gz clustComp_1.10.0.zip |
| StartedAt: 2019-04-12 18:28:04 -0400 (Fri, 12 Apr 2019) |
| EndedAt: 2019-04-12 18:28:47 -0400 (Fri, 12 Apr 2019) |
| EllapsedTime: 43.0 seconds |
| RetCode: 0 |
| Status: OK |
##############################################################################
##############################################################################
###
### Running command:
###
### C:\cygwin\bin\curl.exe -O https://malbec1.bioconductor.org/BBS/3.8/bioc/src/contrib/clustComp_1.10.0.tar.gz && rm -rf clustComp.buildbin-libdir && mkdir clustComp.buildbin-libdir && C:\Users\biocbuild\bbs-3.8-bioc\R\bin\R.exe CMD INSTALL --merge-multiarch --build --library=clustComp.buildbin-libdir clustComp_1.10.0.tar.gz && C:\Users\biocbuild\bbs-3.8-bioc\R\bin\R.exe CMD INSTALL clustComp_1.10.0.zip && rm clustComp_1.10.0.tar.gz clustComp_1.10.0.zip
###
##############################################################################
##############################################################################
% Total % Received % Xferd Average Speed Time Time Time Current
Dload Upload Total Spent Left Speed
0 0 0 0 0 0 0 0 --:--:-- --:--:-- --:--:-- 0
100 29872 100 29872 0 0 799k 0 --:--:-- --:--:-- --:--:-- 883k
install for i386
* installing *source* package 'clustComp' ...
** R
** inst
** byte-compile and prepare package for lazy loading
** help
*** installing help indices
converting help for package 'clustComp'
finding HTML links ... done
SCmapping html
barycentre html
drawTreeGraph html
dyn.cross html
flatVSflat html
flatVShier html
insert html
score.crossing html
score.it html
** building package indices
** installing vignettes
** testing if installed package can be loaded
In R CMD INSTALL
install for x64
* installing *source* package 'clustComp' ...
** testing if installed package can be loaded
* MD5 sums
packaged installation of 'clustComp' as clustComp_1.10.0.zip
* DONE (clustComp)
In R CMD INSTALL
In R CMD INSTALL
* installing to library 'C:/Users/biocbuild/bbs-3.8-bioc/R/library'
package 'clustComp' successfully unpacked and MD5 sums checked
In R CMD INSTALL