| Back to Multiple platform build/check report for BioC 3.8 | 
  | 
This page was generated on 2019-04-13 11:21:33 -0400 (Sat, 13 Apr 2019).
| Package 275/1649 | Hostname | OS / Arch | INSTALL | BUILD | CHECK | BUILD BIN | ||||||
| clstutils 1.30.0 Noah Hoffman 
  | malbec1 | Linux (Ubuntu 16.04.6 LTS) / x86_64 | OK | OK | WARNINGS | |||||||
| tokay1 | Windows Server 2012 R2 Standard / x64 | OK | OK | WARNINGS | [ OK ] | |||||||
| merida1 | OS X 10.11.6 El Capitan / x86_64 | OK | OK | WARNINGS | OK | 
| Package: clstutils | 
| Version: 1.30.0 | 
| Command: rm -rf clstutils.buildbin-libdir && mkdir clstutils.buildbin-libdir && C:\Users\biocbuild\bbs-3.8-bioc\R\bin\R.exe CMD INSTALL --merge-multiarch --build --library=clstutils.buildbin-libdir clstutils_1.30.0.tar.gz | 
| StartedAt: 2019-04-13 07:04:24 -0400 (Sat, 13 Apr 2019) | 
| EndedAt: 2019-04-13 07:05:00 -0400 (Sat, 13 Apr 2019) | 
| EllapsedTime: 35.7 seconds | 
| RetCode: 0 | 
| Status: OK | 
| PackageFile: clstutils_1.30.0.zip | 
| PackageFileSize: 2.603 MiB | 
##############################################################################
##############################################################################
###
### Running command:
###
###   rm -rf clstutils.buildbin-libdir && mkdir clstutils.buildbin-libdir && C:\Users\biocbuild\bbs-3.8-bioc\R\bin\R.exe CMD INSTALL --merge-multiarch --build --library=clstutils.buildbin-libdir clstutils_1.30.0.tar.gz
###
##############################################################################
##############################################################################
install for i386
* installing *source* package 'clstutils' ...
** R
** data
*** moving datasets to lazyload DB
** inst
** byte-compile and prepare package for lazy loading
** help
*** installing help indices
  converting help for package 'clstutils'
    finding HTML links ... done
    classifyPlacements                      html  
Rd warning: C:/Users/biocbuild/bbs-3.8-bioc/tmpdir/Rtmpgbxq1i/R.INSTALL3870370d6a6b/clstutils/man/classifyPlacements.Rd:31: file link 'classifyIter' in package 'clst' does not exist and so has been treated as a topic
    clstutils-package                       html  
    finding level-2 HTML links ... done
    findOutliers                            html  
    maxDists                                html  
    prettyTree                              html  
    refpkgContents                          html  
    seqdat                                  html  
    seqs                                    html  
    taxonomyFromRefpkg                      html  
    treeDists                               html  
** building package indices
** installing vignettes
** testing if installed package can be loaded
In R CMD INSTALL
install for x64
* installing *source* package 'clstutils' ...
** testing if installed package can be loaded
* MD5 sums
packaged installation of 'clstutils' as clstutils_1.30.0.zip
* DONE (clstutils)
In R CMD INSTALL
In R CMD INSTALL