| Back to Multiple platform build/check report for BioC 3.8 |
|
This page was generated on 2019-04-16 11:56:44 -0400 (Tue, 16 Apr 2019).
| Package 270/1649 | Hostname | OS / Arch | INSTALL | BUILD | CHECK | BUILD BIN | ||||||
| clipper 1.22.0 Paolo Martini
| malbec1 | Linux (Ubuntu 16.04.6 LTS) / x86_64 | OK | OK | OK | |||||||
| merida1 | OS X 10.11.6 El Capitan / x86_64 | OK | OK | OK | [ OK ] |
| Package: clipper |
| Version: 1.22.0 |
| Command: rm -rf clipper.buildbin-libdir && mkdir clipper.buildbin-libdir && /Users/biocbuild/BBS/utils/build-universal.sh clipper_1.22.0.tar.gz /Library/Frameworks/R.framework/Versions/Current/Resources/bin/R clipper.buildbin-libdir |
| StartedAt: 2019-04-16 03:50:59 -0400 (Tue, 16 Apr 2019) |
| EndedAt: 2019-04-16 03:51:44 -0400 (Tue, 16 Apr 2019) |
| EllapsedTime: 45.8 seconds |
| RetCode: 0 |
| Status: OK |
| PackageFile: clipper_1.22.0.tgz |
| PackageFileSize: 675.6 KiB |
############################################################################## ############################################################################## ### ### Running command: ### ### rm -rf clipper.buildbin-libdir && mkdir clipper.buildbin-libdir && /Users/biocbuild/BBS/utils/build-universal.sh clipper_1.22.0.tar.gz /Library/Frameworks/R.framework/Versions/Current/Resources/bin/R clipper.buildbin-libdir ### ############################################################################## ############################################################################## >>>>>>> >>>>>>> INSTALLATION WITH 'R CMD INSTALL --preclean --no-multiarch --library=clipper.buildbin-libdir clipper_1.22.0.tar.gz' >>>>>>> * installing *source* package ‘clipper’ ... ** R ** inst ** byte-compile and prepare package for lazy loading No methods found in package ‘GenomicRanges’ for request: ‘c’ when loading ‘qpgraph’ ** help *** installing help indices ** building package indices ** installing vignettes ** testing if installed package can be loaded No methods found in package ‘GenomicRanges’ for request: ‘c’ when loading ‘qpgraph’ * DONE (clipper)