Back to Multiple platform build/check report for BioC 3.8 |
|
This page was generated on 2019-04-16 12:11:47 -0400 (Tue, 16 Apr 2019).
Package 213/1649 | Hostname | OS / Arch | INSTALL | BUILD | CHECK | BUILD BIN | ||||||
celaref 1.0.1 Sarah Williams
| malbec1 | Linux (Ubuntu 16.04.6 LTS) / x86_64 | OK | OK | OK | ![]() | ||||||
merida1 | OS X 10.11.6 El Capitan / x86_64 | OK | OK | OK | [ OK ] | ![]() |
Package: celaref |
Version: 1.0.1 |
Command: rm -rf celaref.buildbin-libdir && mkdir celaref.buildbin-libdir && /Users/biocbuild/BBS/utils/build-universal.sh celaref_1.0.1.tar.gz /Library/Frameworks/R.framework/Versions/Current/Resources/bin/R celaref.buildbin-libdir |
StartedAt: 2019-04-16 03:48:18 -0400 (Tue, 16 Apr 2019) |
EndedAt: 2019-04-16 03:48:57 -0400 (Tue, 16 Apr 2019) |
EllapsedTime: 39.6 seconds |
RetCode: 0 |
Status: OK |
PackageFile: celaref_1.0.1.tgz |
PackageFileSize: 3.438 MiB |
############################################################################## ############################################################################## ### ### Running command: ### ### rm -rf celaref.buildbin-libdir && mkdir celaref.buildbin-libdir && /Users/biocbuild/BBS/utils/build-universal.sh celaref_1.0.1.tar.gz /Library/Frameworks/R.framework/Versions/Current/Resources/bin/R celaref.buildbin-libdir ### ############################################################################## ############################################################################## >>>>>>> >>>>>>> INSTALLATION WITH 'R CMD INSTALL --preclean --no-multiarch --library=celaref.buildbin-libdir celaref_1.0.1.tar.gz' >>>>>>> * installing *source* package ‘celaref’ ... ** R ** data *** moving datasets to lazyload DB ** inst ** byte-compile and prepare package for lazy loading ** help *** installing help indices ** building package indices ** installing vignettes ** testing if installed package can be loaded * DONE (celaref)