| Back to Multiple platform build/check report for BioC 3.8 |
|
This page was generated on 2019-04-13 11:29:34 -0400 (Sat, 13 Apr 2019).
| Package 173/1649 | Hostname | OS / Arch | INSTALL | BUILD | CHECK | BUILD BIN | ||||||
| brainImageR 1.0.0 Sara B Linker
| malbec1 | Linux (Ubuntu 16.04.6 LTS) / x86_64 | OK | OK | OK | |||||||
| tokay1 | Windows Server 2012 R2 Standard / x64 | OK | OK | OK | [ OK ] | |||||||
| merida1 | OS X 10.11.6 El Capitan / x86_64 | OK | OK | OK | OK |
| Package: brainImageR |
| Version: 1.0.0 |
| Command: rm -rf brainImageR.buildbin-libdir && mkdir brainImageR.buildbin-libdir && C:\Users\biocbuild\bbs-3.8-bioc\R\bin\R.exe CMD INSTALL --merge-multiarch --build --library=brainImageR.buildbin-libdir brainImageR_1.0.0.tar.gz |
| StartedAt: 2019-04-13 06:59:01 -0400 (Sat, 13 Apr 2019) |
| EndedAt: 2019-04-13 06:59:20 -0400 (Sat, 13 Apr 2019) |
| EllapsedTime: 18.8 seconds |
| RetCode: 0 |
| Status: OK |
| PackageFile: brainImageR_1.0.0.zip |
| PackageFileSize: 1.59 MiB |
##############################################################################
##############################################################################
###
### Running command:
###
### rm -rf brainImageR.buildbin-libdir && mkdir brainImageR.buildbin-libdir && C:\Users\biocbuild\bbs-3.8-bioc\R\bin\R.exe CMD INSTALL --merge-multiarch --build --library=brainImageR.buildbin-libdir brainImageR_1.0.0.tar.gz
###
##############################################################################
##############################################################################
install for i386
* installing *source* package 'brainImageR' ...
** R
** data
*** moving datasets to lazyload DB
** inst
** byte-compile and prepare package for lazy loading
** help
*** installing help indices
converting help for package 'brainImageR'
finding HTML links ... done
BrainMap html
Comp-class html
CreateBrain html
GetGenes html
InABA html
PValue.onetail html
PlotBrain html
PlotEnrich html
PlotPred html
Pred-class html
RandomTissueSummary html
SpatialEnrichment html
TissueSummary html
available_areanames html
brainrange html
dat html
hipp html
predict_time html
reColor html
testEnrich html
tis_in_region html
tis_set html
vth html
whichtissues html
** building package indices
** installing vignettes
** testing if installed package can be loaded
In R CMD INSTALL
install for x64
* installing *source* package 'brainImageR' ...
** testing if installed package can be loaded
* MD5 sums
packaged installation of 'brainImageR' as brainImageR_1.0.0.zip
* DONE (brainImageR)
In R CMD INSTALL
In R CMD INSTALL